BEGIN:VCALENDAR
VERSION:2.0
PRODID:-//First Century Church - ECPv6.15.20//NONSGML v1.0//EN
CALSCALE:GREGORIAN
METHOD:PUBLISH
X-WR-CALNAME:First Century Church
X-ORIGINAL-URL:http://firstcenturykc.com
X-WR-CALDESC:Events for First Century Church
REFRESH-INTERVAL;VALUE=DURATION:PT1H
X-Robots-Tag:noindex
X-PUBLISHED-TTL:PT1H
BEGIN:VTIMEZONE
TZID:America/Chicago
BEGIN:DAYLIGHT
TZOFFSETFROM:-0600
TZOFFSETTO:-0500
TZNAME:CDT
DTSTART:20230312T080000
END:DAYLIGHT
BEGIN:STANDARD
TZOFFSETFROM:-0500
TZOFFSETTO:-0600
TZNAME:CST
DTSTART:20231105T070000
END:STANDARD
BEGIN:DAYLIGHT
TZOFFSETFROM:-0600
TZOFFSETTO:-0500
TZNAME:CDT
DTSTART:20240310T080000
END:DAYLIGHT
BEGIN:STANDARD
TZOFFSETFROM:-0500
TZOFFSETTO:-0600
TZNAME:CST
DTSTART:20241103T070000
END:STANDARD
BEGIN:DAYLIGHT
TZOFFSETFROM:-0600
TZOFFSETTO:-0500
TZNAME:CDT
DTSTART:20250309T080000
END:DAYLIGHT
BEGIN:STANDARD
TZOFFSETFROM:-0500
TZOFFSETTO:-0600
TZNAME:CST
DTSTART:20251102T070000
END:STANDARD
END:VTIMEZONE
BEGIN:VEVENT
DTSTART;TZID=America/Chicago:20240822T190000
DTEND;TZID=America/Chicago:20240822T200000
DTSTAMP:20260424T111633
CREATED:20240815T144139Z
LAST-MODIFIED:20240815T144139Z
UID:3333-1724353200-1724356800@firstcenturykc.com
SUMMARY:1C_Yth
DESCRIPTION:This weekly gathering is designed for all 6th-12th graders to discover\, explore\, and grow in their faith.
URL:http://firstcenturykc.com/event/1c_yth-3/
CATEGORIES:1C-Yth
ATTACH;FMTTYPE=image/jpeg:http://firstcenturykc.com/wp-content/uploads/2024/07/1CYth-image-PLAIN-SQUARE-FINAL.jpg
END:VEVENT
BEGIN:VEVENT
DTSTART;TZID=America/Chicago:20240815T190000
DTEND;TZID=America/Chicago:20240815T200000
DTSTAMP:20260424T111633
CREATED:20240815T144038Z
LAST-MODIFIED:20240815T144038Z
UID:3331-1723748400-1723752000@firstcenturykc.com
SUMMARY:1C_Yth
DESCRIPTION:This weekly gathering is designed for all 6th-12th graders to discover\, explore\, and grow in their faith.
URL:http://firstcenturykc.com/event/1c_yth-2/
CATEGORIES:1C-Yth
ATTACH;FMTTYPE=image/jpeg:http://firstcenturykc.com/wp-content/uploads/2024/07/1CYth-title-w-tagline-and-time-SQUARE-FINAL.jpg
END:VEVENT
BEGIN:VEVENT
DTSTART;TZID=America/Chicago:20240808T190000
DTEND;TZID=America/Chicago:20240808T200000
DTSTAMP:20260424T111633
CREATED:20240802T015137Z
LAST-MODIFIED:20240802T015137Z
UID:3324-1723143600-1723147200@firstcenturykc.com
SUMMARY:1C_Yth
DESCRIPTION:This weekly gathering is designed for all 6th-12th graders to discover\, explore\, and grow in their faith.
URL:http://firstcenturykc.com/event/1c_yth/
CATEGORIES:1C-Yth
ATTACH;FMTTYPE=image/jpeg:http://firstcenturykc.com/wp-content/uploads/2024/07/1CYth-title-w-tagline-and-time-SQUARE-FINAL.jpg
END:VEVENT
END:VCALENDAR