BEGIN:VCALENDAR
VERSION:2.0
PRODID:-//First Century Church - ECPv6.15.20//NONSGML v1.0//EN
CALSCALE:GREGORIAN
METHOD:PUBLISH
X-WR-CALNAME:First Century Church
X-ORIGINAL-URL:http://firstcenturykc.com
X-WR-CALDESC:Events for First Century Church
REFRESH-INTERVAL;VALUE=DURATION:PT1H
X-Robots-Tag:noindex
X-PUBLISHED-TTL:PT1H
BEGIN:VTIMEZONE
TZID:America/Chicago
BEGIN:DAYLIGHT
TZOFFSETFROM:-0600
TZOFFSETTO:-0500
TZNAME:CDT
DTSTART:20140309T080000
END:DAYLIGHT
BEGIN:STANDARD
TZOFFSETFROM:-0500
TZOFFSETTO:-0600
TZNAME:CST
DTSTART:20141102T070000
END:STANDARD
BEGIN:DAYLIGHT
TZOFFSETFROM:-0600
TZOFFSETTO:-0500
TZNAME:CDT
DTSTART:20150308T080000
END:DAYLIGHT
BEGIN:STANDARD
TZOFFSETFROM:-0500
TZOFFSETTO:-0600
TZNAME:CST
DTSTART:20151101T070000
END:STANDARD
BEGIN:DAYLIGHT
TZOFFSETFROM:-0600
TZOFFSETTO:-0500
TZNAME:CDT
DTSTART:20160313T080000
END:DAYLIGHT
BEGIN:STANDARD
TZOFFSETFROM:-0500
TZOFFSETTO:-0600
TZNAME:CST
DTSTART:20161106T070000
END:STANDARD
BEGIN:DAYLIGHT
TZOFFSETFROM:-0600
TZOFFSETTO:-0500
TZNAME:CDT
DTSTART:20170312T080000
END:DAYLIGHT
BEGIN:STANDARD
TZOFFSETFROM:-0500
TZOFFSETTO:-0600
TZNAME:CST
DTSTART:20171105T070000
END:STANDARD
BEGIN:DAYLIGHT
TZOFFSETFROM:-0600
TZOFFSETTO:-0500
TZNAME:CDT
DTSTART:20180311T080000
END:DAYLIGHT
BEGIN:STANDARD
TZOFFSETFROM:-0500
TZOFFSETTO:-0600
TZNAME:CST
DTSTART:20181104T070000
END:STANDARD
BEGIN:DAYLIGHT
TZOFFSETFROM:-0600
TZOFFSETTO:-0500
TZNAME:CDT
DTSTART:20190310T080000
END:DAYLIGHT
BEGIN:STANDARD
TZOFFSETFROM:-0500
TZOFFSETTO:-0600
TZNAME:CST
DTSTART:20191103T070000
END:STANDARD
BEGIN:DAYLIGHT
TZOFFSETFROM:-0600
TZOFFSETTO:-0500
TZNAME:CDT
DTSTART:20200308T080000
END:DAYLIGHT
BEGIN:STANDARD
TZOFFSETFROM:-0500
TZOFFSETTO:-0600
TZNAME:CST
DTSTART:20201101T070000
END:STANDARD
BEGIN:DAYLIGHT
TZOFFSETFROM:-0600
TZOFFSETTO:-0500
TZNAME:CDT
DTSTART:20210314T080000
END:DAYLIGHT
BEGIN:STANDARD
TZOFFSETFROM:-0500
TZOFFSETTO:-0600
TZNAME:CST
DTSTART:20211107T070000
END:STANDARD
BEGIN:DAYLIGHT
TZOFFSETFROM:-0600
TZOFFSETTO:-0500
TZNAME:CDT
DTSTART:20220313T080000
END:DAYLIGHT
BEGIN:STANDARD
TZOFFSETFROM:-0500
TZOFFSETTO:-0600
TZNAME:CST
DTSTART:20221106T070000
END:STANDARD
BEGIN:DAYLIGHT
TZOFFSETFROM:-0600
TZOFFSETTO:-0500
TZNAME:CDT
DTSTART:20230312T080000
END:DAYLIGHT
BEGIN:STANDARD
TZOFFSETFROM:-0500
TZOFFSETTO:-0600
TZNAME:CST
DTSTART:20231105T070000
END:STANDARD
BEGIN:DAYLIGHT
TZOFFSETFROM:-0600
TZOFFSETTO:-0500
TZNAME:CDT
DTSTART:20240310T080000
END:DAYLIGHT
BEGIN:STANDARD
TZOFFSETFROM:-0500
TZOFFSETTO:-0600
TZNAME:CST
DTSTART:20241103T070000
END:STANDARD
BEGIN:DAYLIGHT
TZOFFSETFROM:-0600
TZOFFSETTO:-0500
TZNAME:CDT
DTSTART:20250309T080000
END:DAYLIGHT
BEGIN:STANDARD
TZOFFSETFROM:-0500
TZOFFSETTO:-0600
TZNAME:CST
DTSTART:20251102T070000
END:STANDARD
BEGIN:DAYLIGHT
TZOFFSETFROM:-0600
TZOFFSETTO:-0500
TZNAME:CDT
DTSTART:20260308T080000
END:DAYLIGHT
BEGIN:STANDARD
TZOFFSETFROM:-0500
TZOFFSETTO:-0600
TZNAME:CST
DTSTART:20261101T070000
END:STANDARD
END:VTIMEZONE
BEGIN:VEVENT
DTSTART;TZID=America/Chicago:20250928T100000
DTEND;TZID=America/Chicago:20250928T113000
DTSTAMP:20260424T023506
CREATED:20250821T222221Z
LAST-MODIFIED:20250903T170101Z
UID:3639-1759053600-1759059000@firstcenturykc.com
SUMMARY:1C Serve Day
DESCRIPTION:On the final Sunday of September we will not meet in the building\, but we will BE the church by doing various community outreach projects in the community including: \n\ngrocery shopping & delivery for local families\nlawn care team providing free lawn services for local families\npark team handing out treats & meeting neighbors at English Landing Park\ntrash & litter pickup throughout the community\ndelivering “Thank You” goodie baskets to local first responders\nAND MORE!
URL:http://firstcenturykc.com/event/1c-serve-day/
CATEGORIES:Community Events
ATTACH;FMTTYPE=image/jpeg:http://firstcenturykc.com/wp-content/uploads/2025/08/Serve-Day-2025-WIDE-FINAL-ANNOUNCEMENT.jpg
END:VEVENT
BEGIN:VEVENT
DTSTART;TZID=America/Chicago:20250809T100000
DTEND;TZID=America/Chicago:20250809T123000
DTSTAMP:20260424T023506
CREATED:20250710T214728Z
LAST-MODIFIED:20250710T214728Z
UID:3609-1754733600-1754742600@firstcenturykc.com
SUMMARY:Block Party
DESCRIPTION:
URL:http://firstcenturykc.com/event/block-party-4/
LOCATION:First Century Church\, 7137 NW Lingley Drive\, Parkville\, MO\, 64152\, United States
CATEGORIES:Community Events
ATTACH;FMTTYPE=image/jpeg:http://firstcenturykc.com/wp-content/uploads/2025/07/Block-Party-2025-SQUARE-FINAL.jpg
END:VEVENT
BEGIN:VEVENT
DTSTART;TZID=America/Chicago:20241116T160000
DTEND;TZID=America/Chicago:20241116T180000
DTSTAMP:20260424T023506
CREATED:20241017T210645Z
LAST-MODIFIED:20241017T210645Z
UID:3374-1731772800-1731780000@firstcenturykc.com
SUMMARY:Fall Party
DESCRIPTION:The whole family is invited to hang out with us at the church for our first-ever Fall Party! \nWe’ll have some fun games and activities for kids and adults like a scavenger hunt\, cake walk\, cornhole\, and more. Plus\, you can sit by a cozy fire pit and roast some hot dogs and smores! Yummy! \nThe event is completely free\, and we hope to see you there!
URL:http://firstcenturykc.com/event/fall-party/
CATEGORIES:Community Events
ATTACH;FMTTYPE=image/jpeg:http://firstcenturykc.com/wp-content/uploads/2024/10/Fall-Party-2024-SQUARE-FINAL.jpg
END:VEVENT
BEGIN:VEVENT
DTSTART;TZID=America/Chicago:20240727T110000
DTEND;TZID=America/Chicago:20240727T130000
DTSTAMP:20260424T023506
CREATED:20240725T200942Z
LAST-MODIFIED:20240725T200942Z
UID:3304-1722078000-1722085200@firstcenturykc.com
SUMMARY:Block Party
DESCRIPTION:Join us in the parking lot for tons of fun\, yard games\, food\, & a giant water slide for the kids! And the best part is it’s all FREE! We hope to see you there!
URL:http://firstcenturykc.com/event/block-party-3/
CATEGORIES:Community Events
ATTACH;FMTTYPE=image/jpeg:http://firstcenturykc.com/wp-content/uploads/2024/07/Block-Party-2024-SQUARE-FINAL.jpg
END:VEVENT
BEGIN:VEVENT
DTSTART;TZID=America/Chicago:20230428T170000
DTEND;TZID=America/Chicago:20230428T190000
DTSTAMP:20260424T023506
CREATED:20230315T212202Z
LAST-MODIFIED:20230315T212202Z
UID:2870-1682701200-1682708400@firstcenturykc.com
SUMMARY:Graden Elementary School Spring Carnival
DESCRIPTION:We’re excited to serve at Graden Elementary School’s annual Spring Carnival! \nWe’re asking all 1Cers available to help with setup\, tear-down\, and whatever else is needed to make this a great event. We’ll also have a carnival game or two you can help facilitate! \n*You will need a filled and approved volunteer form and background check from the Park Hill School District to volunteer at any school event\, so please fill one out ASAP and join the fun with us!
URL:http://firstcenturykc.com/event/graden-elementary-school-spring-carnival/
CATEGORIES:Community Events
ATTACH;FMTTYPE=image/jpeg:http://firstcenturykc.com/wp-content/uploads/2023/03/Graden-Carnival-Announcement-SQUARE-FINAL.jpg
END:VEVENT
BEGIN:VEVENT
DTSTART;TZID=America/Chicago:20221030T170000
DTEND;TZID=America/Chicago:20221030T190000
DTSTAMP:20260424T023506
CREATED:20220921T134835Z
LAST-MODIFIED:20220921T134835Z
UID:2718-1667149200-1667156400@firstcenturykc.com
SUMMARY:Trunk or Treat
DESCRIPTION:Bring the whole family all decked out in their costumes for our annual Trunk or Treat!\nOur parking lot will be full of our trunks all decked out and ready to hand out candy. There will also be some kid-friendly games and activities to win some extra candy and goodies.\nWe hope you make us part of your Trick or Treating plans this year!
URL:http://firstcenturykc.com/event/trunk-or-treat-2/
CATEGORIES:Community Events
ATTACH;FMTTYPE=image/jpeg:http://firstcenturykc.com/wp-content/uploads/2022/09/Trunk-or-Treat-2022-SQUARE-FINAL.jpg
END:VEVENT
BEGIN:VEVENT
DTSTART;TZID=America/Chicago:20211030T170000
DTEND;TZID=America/Chicago:20211030T190000
DTSTAMP:20260424T023506
CREATED:20211014T191448Z
LAST-MODIFIED:20211014T191448Z
UID:2417-1635613200-1635620400@firstcenturykc.com
SUMMARY:Trunk or Treat
DESCRIPTION:You and your entire family are invited to our first-ever Trunk or Treat event!\nThere will be candy (of course) plus games\, prizes\, snacks\, & a ton of fun!
URL:http://firstcenturykc.com/event/trunk-or-treat/
CATEGORIES:Community Events
ATTACH;FMTTYPE=image/jpeg:http://firstcenturykc.com/wp-content/uploads/2021/10/Trunk-or-Treat-SQUARE-HANDOUT-FINAL.jpg
END:VEVENT
BEGIN:VEVENT
DTSTART;TZID=America/Chicago:20210710T110000
DTEND;TZID=America/Chicago:20210710T130000
DTSTAMP:20260424T023506
CREATED:20210706T031320Z
LAST-MODIFIED:20210706T031320Z
UID:2285-1625914800-1625922000@firstcenturykc.com
SUMMARY:Block Party
DESCRIPTION:Your entire family will have a blast at our Summer Block Party! \nActivities Include: \n\nYard games for all ages\nKids Inflatable water slide\nKids Water balloon fight\nChance to win prizes & gift cards\nSno-cones\nFood
URL:http://firstcenturykc.com/event/block-party-2/
CATEGORIES:Community Events
ATTACH;FMTTYPE=image/jpeg:http://firstcenturykc.com/wp-content/uploads/2021/07/BLOCK-PARTY-SUMMER-2021-w-address-for-handout.jpg
END:VEVENT
BEGIN:VEVENT
DTSTART;TZID=America/Chicago:20190812T173000
DTEND;TZID=America/Chicago:20190812T190000
DTSTAMP:20260424T023506
CREATED:20190805T235134Z
LAST-MODIFIED:20190805T235134Z
UID:1627-1565631000-1565636400@firstcenturykc.com
SUMMARY:Back to School Night @ Graden Elementary School
DESCRIPTION:We are SO excited to partner with Graden Elementary for their annual Back to School Night! As the kids meet their teachers\, we’ll provide the fun – bounce houses in the back parking lot\, a free photo booth\, and free ice cream bars for everyone (parents\, too)! This is such a great and fun way to be involved in our community!
URL:http://firstcenturykc.com/event/back-to-school-night-graden-elementary-school/
LOCATION:Graden Elementary School\, 8804 MO-45\, Parkville\, MO\, 64152\, United States
CATEGORIES:Community Events
ATTACH;FMTTYPE=image/jpeg:http://firstcenturykc.com/wp-content/uploads/2019/08/Graden-Back-To-School-title-image-WEB.jpg
END:VEVENT
BEGIN:VEVENT
DTSTART;TZID=America/Chicago:20190731T183000
DTEND;TZID=America/Chicago:20190731T200000
DTSTAMP:20260424T023506
CREATED:20190703T185316Z
LAST-MODIFIED:20190703T185316Z
UID:1607-1564597800-1564603200@firstcenturykc.com
SUMMARY:Ice Cream Social
DESCRIPTION:You and your family are invited to cool down with us at our Ice Cream Social. It completely FREE and will be a lot of fun!
URL:http://firstcenturykc.com/event/ice-cream-social/
LOCATION:First Century Church\, 7137 NW Lingley Drive\, Parkville\, MO\, 64152\, United States
CATEGORIES:Community Events
ATTACH;FMTTYPE=image/jpeg:http://firstcenturykc.com/wp-content/uploads/2019/07/Slide3.jpg
END:VEVENT
BEGIN:VEVENT
DTSTART;TZID=America/Chicago:20190630T100000
DTEND;TZID=America/Chicago:20190630T120000
DTSTAMP:20260424T023506
CREATED:20190603T214216Z
LAST-MODIFIED:20190603T214405Z
UID:1580-1561888800-1561896000@firstcenturykc.com
SUMMARY:1C Serve
DESCRIPTION:This Sunday we are doing something very special! We will gather as usual at 10am\, but for a short 15-minute rally before breaking out into groups and blessing our community. Some things on our schedule are: buying groceries for families in our neighborhood\, oil change for single moms in the neighborhood\, handing out goodie bags door-to-door in our neighborhood\, and more! If you’d like to join us to spread some cheer and goodwill\, we’d love for you to tag along for our first-ever 1C Serve!
URL:http://firstcenturykc.com/event/1c-serve/
LOCATION:First Century Church\, 7137 NW Lingley Drive\, Parkville\, MO\, 64152\, United States
CATEGORIES:Community Events
ATTACH;FMTTYPE=image/jpeg:http://firstcenturykc.com/wp-content/uploads/2019/06/1C-Serve-FINAL-ANNOUNCEMENT-W-DATE.jpg
END:VEVENT
BEGIN:VEVENT
DTSTART;TZID=America/Chicago:20190601T110000
DTEND;TZID=America/Chicago:20190601T140000
DTSTAMP:20260424T023506
CREATED:20190520T185717Z
LAST-MODIFIED:20190520T185717Z
UID:1570-1559386800-1559397600@firstcenturykc.com
SUMMARY:Block Party
DESCRIPTION:Kick-off summer with us at our first-ever block party! There will be food\, sno-cones\, games & activities for all ages\, and more! The two best parts: YOU’RE INVITED AND IT’S FREE! We hope you can make it out for a day of fun!
URL:http://firstcenturykc.com/event/block-party/
LOCATION:First Century Church\, 7137 NW Lingley Drive\, Parkville\, MO\, 64152\, United States
CATEGORIES:Community Events
ATTACH;FMTTYPE=image/jpeg:http://firstcenturykc.com/wp-content/uploads/2019/05/Block-Party-summer-2019-W-TIMES.jpg
END:VEVENT
BEGIN:VEVENT
DTSTART;TZID=America/Chicago:20181028T113000
DTEND;TZID=America/Chicago:20181028T123000
DTSTAMP:20260424T023506
CREATED:20180926T192353Z
LAST-MODIFIED:20180926T192353Z
UID:1410-1540726200-1540729800@firstcenturykc.com
SUMMARY:New People Party
DESCRIPTION:Are you new to First Century Church? Do you have questions or want more info about First Century Church? If that’s you\, stick around after the gathering on October 27th to hear from the leadership and for a time of Q&A. We’d love to connect with you and your family. Lunch is provided and we’ll have you out in 30-45 minutes\, so it will definitely be worth your time.
URL:http://firstcenturykc.com/event/new-people-party-2/
LOCATION:Lakeview Middle School\, 6720 NW 64th St.\, Kansas City\, MO\, 64151\, United States
CATEGORIES:Community Events
ATTACH;FMTTYPE=image/png:http://firstcenturykc.com/wp-content/uploads/2018/09/Slide2.png
END:VEVENT
BEGIN:VEVENT
DTSTART;TZID=America/Chicago:20180813T170000
DTEND;TZID=America/Chicago:20180813T190000
DTSTAMP:20260424T023506
CREATED:20180723T201727Z
LAST-MODIFIED:20180723T201727Z
UID:1369-1534179600-1534186800@firstcenturykc.com
SUMMARY:2018-19 Back To School Night @ Graden Elementary
DESCRIPTION:We are so always excited about partnering with Graden Elementary School at their annual Back To School Night! Students and their families will meet their teachers for the new year and we’ll provide a little fun for them – inflatable games\, free ice cream\, and a photo op! We love our community!
URL:http://firstcenturykc.com/event/2018-19-back-to-school-night-graden-elementary/
LOCATION:Graden Elementary School\, 8804 MO-45\, Parkville\, MO\, 64152\, United States
CATEGORIES:Community Events
ATTACH;FMTTYPE=image/png:http://firstcenturykc.com/wp-content/uploads/2018/07/Graden-Back-To-School-2018.png
END:VEVENT
BEGIN:VEVENT
DTSTART;TZID=America/Chicago:20180522T180000
DTEND;TZID=America/Chicago:20180522T200000
DTSTAMP:20260424T023506
CREATED:20180418T154849Z
LAST-MODIFIED:20180418T155507Z
UID:1299-1527012000-1527019200@firstcenturykc.com
SUMMARY:Women's Self-Defense Class
DESCRIPTION:Ladies\, you’re invited to a special self-defense class led by a KCPD officer. This is a FREE event\, but space is limited\, so sign-up today! To sign-up\, fill out the info below: \n\n  \n\n\n\nYour Name (required)\n \n\n \nYour Email (required)\n \n\n \nPhone Number
URL:http://firstcenturykc.com/event/womens-self-defense-class/
LOCATION:Lakeview Middle School\, 6720 NW 64th St.\, Kansas City\, MO\, 64151\, United States
CATEGORIES:Community Events
ATTACH;FMTTYPE=image/png:http://firstcenturykc.com/wp-content/uploads/2018/04/Slide2.png
ORGANIZER;CN="Kimberly Wilhoite":MAILTO:kimberly_wilhoite@yahoo.com
END:VEVENT
BEGIN:VEVENT
DTSTART;TZID=America/Chicago:20170818T180000
DTEND;TZID=America/Chicago:20170820T180000
DTSTAMP:20260424T023506
CREATED:20170718T035834Z
LAST-MODIFIED:20170718T040337Z
UID:1105-1503079200-1503252000@firstcenturykc.com
SUMMARY:Parkville Days
DESCRIPTION:For the first time ever we will be involved in the annual Parkville Days festival! \nFirst Century will have a tent set up with the other vendors\, but instead of selling or promoting anything we will be providing a service – a baby changing station. We are very excited for this opportunity to serve in this way\, and we need your help to do it! \nFor more info on the event and how you can get involved\, click on the website link in the information below:
URL:http://firstcenturykc.com/event/parkville-days/
LOCATION:English Landing Park\, Herb Bush Drive\, Parkville\, MO\, 64152\, United States
CATEGORIES:Community Events
ATTACH;FMTTYPE=image/jpeg:http://firstcenturykc.com/wp-content/uploads/2017/07/Parkville-Days-image-2017.jpg
END:VEVENT
BEGIN:VEVENT
DTSTART;TZID=America/Chicago:20170810T170000
DTEND;TZID=America/Chicago:20170810T190000
DTSTAMP:20260424T023506
CREATED:20170713T005634Z
LAST-MODIFIED:20170713T005634Z
UID:1076-1502384400-1502391600@firstcenturykc.com
SUMMARY:Back To School @ Graden Elementary
DESCRIPTION:For the second consecutive year\, we will be a part of Graden Elementary’s Back To School night! After kids meet their teacher\, they can look for us handing out ice cream bars\, take a pic at our photo booth\, and enjoy our inflatable games in the back parking lot! We hope to kick-off the 2017-2018 school year with a little fun!
URL:http://firstcenturykc.com/event/back-to-school-graden-elementary/
LOCATION:Graden Elementary School\, 8804 MO-45\, Parkville\, MO\, 64152\, United States
CATEGORIES:Community Events
ATTACH;FMTTYPE=image/jpeg:http://firstcenturykc.com/wp-content/uploads/2017/07/Graden-Back-To-School-2017.jpg
END:VEVENT
BEGIN:VEVENT
DTSTART;TZID=America/Chicago:20170729T110000
DTEND;TZID=America/Chicago:20170729T140000
DTSTAMP:20260424T023506
CREATED:20170713T003823Z
LAST-MODIFIED:20170713T003823Z
UID:1062-1501326000-1501336800@firstcenturykc.com
SUMMARY:Family Day @ English Landing Park
DESCRIPTION:Your entire family is invited to join us for our 2nd Family Day @ English Landing Park! There’ll be grilled food & sides\, yard games\, & beach volleyball. It will be a great day to connect with the 1C family!
URL:http://firstcenturykc.com/event/family-day-english-landing-park/
LOCATION:English Landing Park\, Herb Bush Drive\, Parkville\, MO\, 64152\, United States
CATEGORIES:Community Events
ATTACH;FMTTYPE=image/png:http://firstcenturykc.com/wp-content/uploads/2017/07/Slide1.png
END:VEVENT
BEGIN:VEVENT
DTSTART;TZID=America/Chicago:20170715T100000
DTEND;TZID=America/Chicago:20170715T110000
DTSTAMP:20260424T023506
CREATED:20170710T121047Z
LAST-MODIFIED:20170710T182607Z
UID:1052-1500112800-1500116400@firstcenturykc.com
SUMMARY:Water (the) Park
DESCRIPTION:Join us as we hand out cold bottles of water on a hot summer day to show our community we care even about the little things!
URL:http://firstcenturykc.com/event/water-the-park/
LOCATION:English Landing Park\, Herb Bush Drive\, Parkville\, MO\, 64152\, United States
CATEGORIES:Community Events
ATTACH;FMTTYPE=image/png:http://firstcenturykc.com/wp-content/uploads/2017/06/Slide1.png
END:VEVENT
BEGIN:VEVENT
DTSTART;TZID=America/Chicago:20150726T103000
DTEND;TZID=America/Chicago:20150809T120000
DTSTAMP:20260424T023506
CREATED:20150727T204931Z
LAST-MODIFIED:20150727T205138Z
UID:573-1437906600-1439121600@firstcenturykc.com
SUMMARY:ReplenishKC
DESCRIPTION:ReplenishKC is a combined community outreach in which we are partnering with Restore Community Chruch & Link Church to provide school supplies for the upcoming 2015-2016 school year to under-resourced families. We will fill paper grocery sacks with school supplies listed on each bag & turn them in by Sunday\, August 9. On Monday\, August 10\, the Clothing Center will host a Back To School event & distribute these bags to families. For more information\, visit the event’s official website: www.replenishkc.org. To get involved through First Century Church\, send us a message and we’ll be in touch.
URL:http://firstcenturykc.com/event/replenishkc/
CATEGORIES:Community Events
ATTACH;FMTTYPE=image/png:http://firstcenturykc.com/wp-content/uploads/2015/07/rePLENISH-outreach-image-2.png
ORGANIZER;CN="Stephen Wilhoite":MAILTO:stephen@firstcenturykc.com
END:VEVENT
BEGIN:VEVENT
DTSTART;TZID=America/Chicago:20150711T160000
DTEND;TZID=America/Chicago:20150711T200000
DTSTAMP:20260424T023506
CREATED:20150619T025739Z
LAST-MODIFIED:20150624T205609Z
UID:523-1436630400-1436644800@firstcenturykc.com
SUMMARY:Church-Wide BBQ
DESCRIPTION:Enjoy a nice day @ English Landing Park with the 1C family! We will be at the West Shelter (Herb Bush Drive\, Parkville MO 64152). There will be plenty of FREE food\, games & activities for kids and adults\, and more! Come connect with others! Bring a lawn chair and friend or two!
URL:http://firstcenturykc.com/event/church-wide-bbq/
LOCATION:English Landing Park\, Herb Bush Drive\, Parkville\, MO\, 64152\, United States
CATEGORIES:Community Events
ATTACH;FMTTYPE=image/png:http://firstcenturykc.com/wp-content/uploads/2015/06/Church-BBQ-July-2015-invite-front.png
ORGANIZER;CN="Stephen Wilhoite":MAILTO:stephen@firstcenturykc.com
END:VEVENT
BEGIN:VEVENT
DTSTART;VALUE=DATE:20150627
DTEND;VALUE=DATE:20150628
DTSTAMP:20260424T023506
CREATED:20150619T025339Z
LAST-MODIFIED:20150624T205744Z
UID:522-1435363200-1435449599@firstcenturykc.com
SUMMARY:Water Park Community Outreach
DESCRIPTION:The idea is simple: hand out ice cold bottled water to people on a hot summer day at the park. Who wouldn’t love that\, right? \n  \nWe have 3 convenient times & locations for you to choose from: \nEnglish Landing Park @ 10:30AM (Herb Bush Drive\, Parkville\, MO 64152) \nMacken Park @ 4PM (1000 E. 27th St\, KCMO 64116) \nPenguin Park @ 7PM (N. Vivion Rd\, KCMO 64117)
URL:http://firstcenturykc.com/event/water-park-community-outreach/
CATEGORIES:Community Events
ATTACH;FMTTYPE=image/png:http://firstcenturykc.com/wp-content/uploads/2015/06/Park-Water-image.png
ORGANIZER;CN="Stephen Wilhoite":MAILTO:stephen@firstcenturykc.com
END:VEVENT
END:VCALENDAR