BEGIN:VCALENDAR
VERSION:2.0
PRODID:-//First Century Church - ECPv6.15.20//NONSGML v1.0//EN
CALSCALE:GREGORIAN
METHOD:PUBLISH
X-WR-CALNAME:First Century Church
X-ORIGINAL-URL:http://firstcenturykc.com
X-WR-CALDESC:Events for First Century Church
REFRESH-INTERVAL;VALUE=DURATION:PT1H
X-Robots-Tag:noindex
X-PUBLISHED-TTL:PT1H
BEGIN:VTIMEZONE
TZID:America/Chicago
BEGIN:DAYLIGHT
TZOFFSETFROM:-0600
TZOFFSETTO:-0500
TZNAME:CDT
DTSTART:20140309T080000
END:DAYLIGHT
BEGIN:STANDARD
TZOFFSETFROM:-0500
TZOFFSETTO:-0600
TZNAME:CST
DTSTART:20141102T070000
END:STANDARD
BEGIN:DAYLIGHT
TZOFFSETFROM:-0600
TZOFFSETTO:-0500
TZNAME:CDT
DTSTART:20150308T080000
END:DAYLIGHT
BEGIN:STANDARD
TZOFFSETFROM:-0500
TZOFFSETTO:-0600
TZNAME:CST
DTSTART:20151101T070000
END:STANDARD
BEGIN:DAYLIGHT
TZOFFSETFROM:-0600
TZOFFSETTO:-0500
TZNAME:CDT
DTSTART:20160313T080000
END:DAYLIGHT
BEGIN:STANDARD
TZOFFSETFROM:-0500
TZOFFSETTO:-0600
TZNAME:CST
DTSTART:20161106T070000
END:STANDARD
END:VTIMEZONE
BEGIN:VEVENT
DTSTART;TZID=America/Chicago:20150711T160000
DTEND;TZID=America/Chicago:20150711T200000
DTSTAMP:20260424T084246
CREATED:20150619T025739Z
LAST-MODIFIED:20150624T205609Z
UID:523-1436630400-1436644800@firstcenturykc.com
SUMMARY:Church-Wide BBQ
DESCRIPTION:Enjoy a nice day @ English Landing Park with the 1C family! We will be at the West Shelter (Herb Bush Drive\, Parkville MO 64152). There will be plenty of FREE food\, games & activities for kids and adults\, and more! Come connect with others! Bring a lawn chair and friend or two!
URL:http://firstcenturykc.com/event/church-wide-bbq/
LOCATION:English Landing Park\, Herb Bush Drive\, Parkville\, MO\, 64152\, United States
CATEGORIES:Community Events
ATTACH;FMTTYPE=image/png:http://firstcenturykc.com/wp-content/uploads/2015/06/Church-BBQ-July-2015-invite-front.png
ORGANIZER;CN="Stephen Wilhoite":MAILTO:stephen@firstcenturykc.com
END:VEVENT
BEGIN:VEVENT
DTSTART;VALUE=DATE:20150627
DTEND;VALUE=DATE:20150628
DTSTAMP:20260424T084246
CREATED:20150619T025339Z
LAST-MODIFIED:20150624T205744Z
UID:522-1435363200-1435449599@firstcenturykc.com
SUMMARY:Water Park Community Outreach
DESCRIPTION:The idea is simple: hand out ice cold bottled water to people on a hot summer day at the park. Who wouldn’t love that\, right? \n  \nWe have 3 convenient times & locations for you to choose from: \nEnglish Landing Park @ 10:30AM (Herb Bush Drive\, Parkville\, MO 64152) \nMacken Park @ 4PM (1000 E. 27th St\, KCMO 64116) \nPenguin Park @ 7PM (N. Vivion Rd\, KCMO 64117)
URL:http://firstcenturykc.com/event/water-park-community-outreach/
LOCATION:MO
CATEGORIES:Community Events
ATTACH;FMTTYPE=image/png:http://firstcenturykc.com/wp-content/uploads/2015/06/Park-Water-image.png
ORGANIZER;CN="Stephen Wilhoite":MAILTO:stephen@firstcenturykc.com
END:VEVENT
END:VCALENDAR