BEGIN:VCALENDAR
VERSION:2.0
PRODID:-//First Century Church - ECPv6.15.20//NONSGML v1.0//EN
CALSCALE:GREGORIAN
METHOD:PUBLISH
X-WR-CALNAME:First Century Church
X-ORIGINAL-URL:http://firstcenturykc.com
X-WR-CALDESC:Events for First Century Church
REFRESH-INTERVAL;VALUE=DURATION:PT1H
X-Robots-Tag:noindex
X-PUBLISHED-TTL:PT1H
BEGIN:VTIMEZONE
TZID:America/Chicago
BEGIN:DAYLIGHT
TZOFFSETFROM:-0600
TZOFFSETTO:-0500
TZNAME:CDT
DTSTART:20230312T080000
END:DAYLIGHT
BEGIN:STANDARD
TZOFFSETFROM:-0500
TZOFFSETTO:-0600
TZNAME:CST
DTSTART:20231105T070000
END:STANDARD
BEGIN:DAYLIGHT
TZOFFSETFROM:-0600
TZOFFSETTO:-0500
TZNAME:CDT
DTSTART:20240310T080000
END:DAYLIGHT
BEGIN:STANDARD
TZOFFSETFROM:-0500
TZOFFSETTO:-0600
TZNAME:CST
DTSTART:20241103T070000
END:STANDARD
BEGIN:DAYLIGHT
TZOFFSETFROM:-0600
TZOFFSETTO:-0500
TZNAME:CDT
DTSTART:20250309T080000
END:DAYLIGHT
BEGIN:STANDARD
TZOFFSETFROM:-0500
TZOFFSETTO:-0600
TZNAME:CST
DTSTART:20251102T070000
END:STANDARD
END:VTIMEZONE
BEGIN:VEVENT
DTSTART;TZID=America/Chicago:20241201T100000
DTEND;TZID=America/Chicago:20241201T111500
DTSTAMP:20260424T160754
CREATED:20241126T200909Z
LAST-MODIFIED:20241126T200909Z
UID:3413-1733047200-1733051700@firstcenturykc.com
SUMMARY:5 Lessons From The Movement
DESCRIPTION:2 years. 10 series. 73 sermons. 1 book.\nOur journey through the New Testament book of Acts comes to a close. In this concluding message\, we will examine 5 main lessons we’ve learned about the movement a.k.a. the Church.
URL:http://firstcenturykc.com/event/5-lessons-from-the-movement/
CATEGORIES:Gatherings
ATTACH;FMTTYPE=image/jpeg:http://firstcenturykc.com/wp-content/uploads/2024/11/5-Lessons-0-title.jpg
END:VEVENT
BEGIN:VEVENT
DTSTART;TZID=America/Chicago:20241124T100000
DTEND;TZID=America/Chicago:20241124T111500
DTSTAMP:20260424T160754
CREATED:20241107T221514Z
LAST-MODIFIED:20241107T221514Z
UID:3394-1732442400-1732446900@firstcenturykc.com
SUMMARY:Thanksgiving Gathering 2024
DESCRIPTION:The Sunday before Thanksgiving we have a lot to be thankful for! \nWe will celebrate new life with a special baby dedication! We will celebrate new spiritual life in Christ through water baptisms! And we will look at Jesus’ Thanksgiving prayer! Come join us for a special gathering full of thanks!
URL:http://firstcenturykc.com/event/thanksgiving-gathering-2024/
CATEGORIES:Gatherings
ATTACH;FMTTYPE=image/jpeg:http://firstcenturykc.com/wp-content/uploads/2024/11/Thanksgiving-Gathering-main-title-w-dates-SQUARE-FINAL.jpg
END:VEVENT
BEGIN:VEVENT
DTSTART;TZID=America/Chicago:20241117T100000
DTEND;TZID=America/Chicago:20241117T110000
DTSTAMP:20260424T160754
CREATED:20241107T220043Z
LAST-MODIFIED:20241107T220043Z
UID:3392-1731837600-1731841200@firstcenturykc.com
SUMMARY:The End? - Wk2
DESCRIPTION:After nearly two years\, we’ve reached the end of Acts…or have we? As we’ll see in this series\, the book of Acts literally doesn’t really end and figuratively doesn’t really end either. Let’s discover some final lessons to learn as we continue the work from Acts.
URL:http://firstcenturykc.com/event/the-end-wk2/
CATEGORIES:Gatherings
ATTACH;FMTTYPE=image/jpeg:http://firstcenturykc.com/wp-content/uploads/2024/11/The-End-final-Acts-series-title-w-tagline-SQUARE-FINAL.jpg
END:VEVENT
BEGIN:VEVENT
DTSTART;TZID=America/Chicago:20241110T100000
DTEND;TZID=America/Chicago:20241110T111500
DTSTAMP:20260424T160754
CREATED:20241107T220001Z
LAST-MODIFIED:20241107T220001Z
UID:3389-1731232800-1731237300@firstcenturykc.com
SUMMARY:The End? - Wk1
DESCRIPTION:After nearly two years\, we’ve reached the end of Acts…or have we? As we’ll see in this series\, the book of Acts literally doesn’t really end and figuratively doesn’t really end either. Let’s discover some final lessons to learn as we continue the work from Acts.
URL:http://firstcenturykc.com/event/the-end-wk1/
CATEGORIES:Gatherings
ATTACH;FMTTYPE=image/jpeg:http://firstcenturykc.com/wp-content/uploads/2024/11/The-End-final-Acts-series-title-w-tagline-SQUARE-FINAL.jpg
END:VEVENT
BEGIN:VEVENT
DTSTART;TZID=America/Chicago:20241103T100000
DTEND;TZID=America/Chicago:20241103T111500
DTSTAMP:20260424T160754
CREATED:20240828T232058Z
LAST-MODIFIED:20241017T200202Z
UID:3351-1730628000-1730632500@firstcenturykc.com
SUMMARY:A Promise For The Nation - Wk3
DESCRIPTION:As the 2024 election comes upon us\, we’re taking three weeks to look at a famous promise from the Bible to get us focused on what’s really important for our nation.
URL:http://firstcenturykc.com/event/a-prayer-for-the-nation-wk3/
CATEGORIES:Gatherings
ATTACH;FMTTYPE=image/jpeg:http://firstcenturykc.com/wp-content/uploads/2024/10/A-Promise-for-The-Nation-SQUARE-FINAL.jpg
END:VEVENT
BEGIN:VEVENT
DTSTART;TZID=America/Chicago:20241027T100000
DTEND;TZID=America/Chicago:20241027T111500
DTSTAMP:20260424T160754
CREATED:20240828T232011Z
LAST-MODIFIED:20241017T200132Z
UID:3349-1730023200-1730027700@firstcenturykc.com
SUMMARY:A Promise For The Nation - Wk2
DESCRIPTION:As the 2024 election comes upon us\, we’re taking three weeks to look at a famous promise from the Bible to get us focused on what’s really important for our nation.
URL:http://firstcenturykc.com/event/a-prayer-for-the-nation-wk2/
CATEGORIES:Gatherings
ATTACH;FMTTYPE=image/jpeg:http://firstcenturykc.com/wp-content/uploads/2024/10/A-Promise-for-The-Nation-SQUARE-FINAL.jpg
END:VEVENT
BEGIN:VEVENT
DTSTART;TZID=America/Chicago:20241020T100000
DTEND;TZID=America/Chicago:20241020T111500
DTSTAMP:20260424T160754
CREATED:20240828T231901Z
LAST-MODIFIED:20241017T200047Z
UID:3346-1729418400-1729422900@firstcenturykc.com
SUMMARY:A Promise For The Nation - Wk1
DESCRIPTION:As the 2024 election comes upon us\, we’re taking three weeks to look at a famous promise from the Bible to get us focused on what’s really important for our nation.
URL:http://firstcenturykc.com/event/a-prayer-for-the-nation-wk1/
CATEGORIES:Gatherings
ATTACH;FMTTYPE=image/jpeg:http://firstcenturykc.com/wp-content/uploads/2024/10/A-Promise-for-The-Nation-SQUARE-FINAL.jpg
END:VEVENT
BEGIN:VEVENT
DTSTART;TZID=America/Chicago:20241013T100000
DTEND;TZID=America/Chicago:20241013T111500
DTSTAMP:20260424T160754
CREATED:20240828T231057Z
LAST-MODIFIED:20240911T170050Z
UID:3344-1728813600-1728818100@firstcenturykc.com
SUMMARY:Truth to Power - Wk5
DESCRIPTION:“Truth to power” might seem like an over-used cliche today\, but in this 5-week series\, Paul is literally speaking truth to power. Join us as we examine five speeches Paul gives to different leaders as we get closer to the end of the book of Acts.
URL:http://firstcenturykc.com/event/truth-to-power-wk4/
CATEGORIES:Gatherings
ATTACH;FMTTYPE=image/jpeg:http://firstcenturykc.com/wp-content/uploads/2024/08/Truth-To-Power-TITLES-Acts-series-9-SQUARE-NO-DATE-FINAL.jpg
END:VEVENT
BEGIN:VEVENT
DTSTART;TZID=America/Chicago:20241006T100000
DTEND;TZID=America/Chicago:20241006T111500
DTSTAMP:20260424T160754
CREATED:20240828T230940Z
LAST-MODIFIED:20240911T170030Z
UID:3342-1728208800-1728213300@firstcenturykc.com
SUMMARY:Truth to Power - Wk4
DESCRIPTION:“Truth to power” might seem like an over-used cliche today\, but in this 5-week series\, Paul is literally speaking truth to power. Join us as we examine five speeches Paul gives to different leaders as we get closer to the end of the book of Acts.
URL:http://firstcenturykc.com/event/truth-to-power-wk3/
CATEGORIES:Gatherings
ATTACH;FMTTYPE=image/jpeg:http://firstcenturykc.com/wp-content/uploads/2024/08/Truth-To-Power-TITLES-Acts-series-9-SQUARE-NO-DATE-FINAL.jpg
END:VEVENT
BEGIN:VEVENT
DTSTART;TZID=America/Chicago:20240929T100000
DTEND;TZID=America/Chicago:20240929T111500
DTSTAMP:20260424T160754
CREATED:20240828T230856Z
LAST-MODIFIED:20240911T170007Z
UID:3340-1727604000-1727608500@firstcenturykc.com
SUMMARY:Truth to Power - Wk3
DESCRIPTION:“Truth to power” might seem like an over-used cliche today\, but in this 5-week series\, Paul is literally speaking truth to power. Join us as we examine five speeches Paul gives to different leaders as we get closer to the end of the book of Acts.
URL:http://firstcenturykc.com/event/truth-to-power-wk2/
CATEGORIES:Gatherings
ATTACH;FMTTYPE=image/jpeg:http://firstcenturykc.com/wp-content/uploads/2024/08/Truth-To-Power-TITLES-Acts-series-9-SQUARE-NO-DATE-FINAL.jpg
END:VEVENT
BEGIN:VEVENT
DTSTART;TZID=America/Chicago:20240922T100000
DTEND;TZID=America/Chicago:20240922T111500
DTSTAMP:20260424T160754
CREATED:20240828T232122Z
LAST-MODIFIED:20240911T165853Z
UID:3337-1726999200-1727003700@firstcenturykc.com
SUMMARY:Truth To Power - Wk2
DESCRIPTION:“Truth to power” might seem like an over-used cliche today\, but in this 5-week series\, Paul is literally speaking truth to power. Join us as we examine five speeches Paul gives to different leaders as we get closer to the end of the book of Acts.
URL:http://firstcenturykc.com/event/truth-to-power-wk1/
CATEGORIES:Gatherings
ATTACH;FMTTYPE=image/jpeg:http://firstcenturykc.com/wp-content/uploads/2024/08/Truth-To-Power-TITLES-Acts-series-9-SQUARE-NO-DATE-FINAL.jpg
END:VEVENT
BEGIN:VEVENT
DTSTART;TZID=America/Chicago:20240915T100000
DTEND;TZID=America/Chicago:20240915T111500
DTSTAMP:20260424T160754
CREATED:20240725T202802Z
LAST-MODIFIED:20240911T165937Z
UID:3313-1726394400-1726398900@firstcenturykc.com
SUMMARY:Truth to Power - Wk1
DESCRIPTION:“Truth to power” might seem like an over-used cliche today\, but in this 5-week series\, Paul is literally speaking truth to power. Join us as we examine five speeches Paul gives to different leaders as we get closer to the end of the book of Acts.
URL:http://firstcenturykc.com/event/on-the-road-again-wk9/
CATEGORIES:Gatherings
ATTACH;FMTTYPE=image/jpeg:http://firstcenturykc.com/wp-content/uploads/2024/08/Truth-To-Power-TITLES-Acts-series-9-SQUARE-NO-DATE-FINAL.jpg
END:VEVENT
BEGIN:VEVENT
DTSTART;TZID=America/Chicago:20240901T100000
DTEND;TZID=America/Chicago:20240901T111500
DTSTAMP:20260424T160754
CREATED:20240725T202136Z
LAST-MODIFIED:20240725T202136Z
UID:3309-1725184800-1725189300@firstcenturykc.com
SUMMARY:Red Sunday 2024
DESCRIPTION:Come to 1C all decked out in your Chiefs gear (or at least red) on Red Sunday! Since we’re crazy about the Kan-sas City Chiefs\, pretty much every Sunday for the next five to six months will be “red”\, but the Sunday before the season kicks off really gets us going! See you there!
URL:http://firstcenturykc.com/event/red-sunday-2024/
CATEGORIES:Gatherings
ATTACH;FMTTYPE=image/jpeg:http://firstcenturykc.com/wp-content/uploads/2024/07/RedSunday-2024-SQUARE-FINAL.jpg
END:VEVENT
BEGIN:VEVENT
DTSTART;TZID=America/Chicago:20240901T100000
DTEND;TZID=America/Chicago:20240901T111500
DTSTAMP:20260424T160754
CREATED:20240725T201106Z
LAST-MODIFIED:20240725T201106Z
UID:3307-1725184800-1725189300@firstcenturykc.com
SUMMARY:On The Road Again - Wk8
DESCRIPTION:We follow Paul on more adventures as he embarks on his 3rd missionary journey in the first century.
URL:http://firstcenturykc.com/event/on-the-road-again-wk8/
CATEGORIES:Gatherings
ATTACH;FMTTYPE=image/jpeg:http://firstcenturykc.com/wp-content/uploads/2024/06/On-The-Road-Again-SQUARE-PLAIN-FINAL-1.jpg
END:VEVENT
BEGIN:VEVENT
DTSTART;TZID=America/Chicago:20240825T100000
DTEND;TZID=America/Chicago:20240825T111500
DTSTAMP:20260424T160754
CREATED:20240624T164946Z
LAST-MODIFIED:20240624T164946Z
UID:3297-1724580000-1724584500@firstcenturykc.com
SUMMARY:On The Road Again - Wk7
DESCRIPTION:We follow Paul on more adventures as he embarks on his 3rd missionary journey in the first century.
URL:http://firstcenturykc.com/event/on-the-road-again-wk7/
CATEGORIES:Gatherings
ATTACH;FMTTYPE=image/jpeg:http://firstcenturykc.com/wp-content/uploads/2024/06/On-The-Road-Again-SQUARE-PLAIN-FINAL-1.jpg
END:VEVENT
BEGIN:VEVENT
DTSTART;TZID=America/Chicago:20240818T100000
DTEND;TZID=America/Chicago:20240818T111500
DTSTAMP:20260424T160754
CREATED:20240624T164902Z
LAST-MODIFIED:20240624T164902Z
UID:3295-1723975200-1723979700@firstcenturykc.com
SUMMARY:On The Road Again - Wk6
DESCRIPTION:We follow Paul on more adventures as he embarks on his 3rd missionary journey in the first century.
URL:http://firstcenturykc.com/event/on-the-road-again-wk6/
CATEGORIES:Gatherings
ATTACH;FMTTYPE=image/jpeg:http://firstcenturykc.com/wp-content/uploads/2024/06/On-The-Road-Again-SQUARE-PLAIN-FINAL-1.jpg
END:VEVENT
BEGIN:VEVENT
DTSTART;TZID=America/Chicago:20240811T100000
DTEND;TZID=America/Chicago:20240811T111500
DTSTAMP:20260424T160754
CREATED:20240624T164701Z
LAST-MODIFIED:20240624T164701Z
UID:3292-1723370400-1723374900@firstcenturykc.com
SUMMARY:On The Road Again - Wk5
DESCRIPTION:We follow Paul on more adventures as he embarks on his 3rd missionary journey in the first century.
URL:http://firstcenturykc.com/event/on-the-road-again-wk5/
CATEGORIES:Gatherings
ATTACH;FMTTYPE=image/jpeg:http://firstcenturykc.com/wp-content/uploads/2024/06/On-The-Road-Again-SQUARE-PLAIN-FINAL-1.jpg
END:VEVENT
BEGIN:VEVENT
DTSTART;TZID=America/Chicago:20240804T100000
DTEND;TZID=America/Chicago:20240804T111500
DTSTAMP:20260424T160754
CREATED:20240624T164339Z
LAST-MODIFIED:20240624T164812Z
UID:3290-1722765600-1722770100@firstcenturykc.com
SUMMARY:On The Road Again - Wk4
DESCRIPTION:We follow Paul on more adventures as he embarks on his 3rd missionary journey in the first century.
URL:http://firstcenturykc.com/event/on-the-road-again-wk4/
CATEGORIES:Gatherings
ATTACH;FMTTYPE=image/jpeg:http://firstcenturykc.com/wp-content/uploads/2024/06/On-The-Road-Again-SQUARE-PLAIN-FINAL-1.jpg
END:VEVENT
BEGIN:VEVENT
DTSTART;TZID=America/Chicago:20240728T100000
DTEND;TZID=America/Chicago:20240728T111500
DTSTAMP:20260424T160754
CREATED:20240624T163946Z
LAST-MODIFIED:20240624T164759Z
UID:3288-1722160800-1722165300@firstcenturykc.com
SUMMARY:On The Road Again - Wk3
DESCRIPTION:We follow Paul on more adventures as he embarks on his 3rd missionary journey in the first century.
URL:http://firstcenturykc.com/event/on-the-road-again-wk3/
CATEGORIES:Gatherings
ATTACH;FMTTYPE=image/jpeg:http://firstcenturykc.com/wp-content/uploads/2024/06/On-The-Road-Again-SQUARE-PLAIN-FINAL-1.jpg
END:VEVENT
BEGIN:VEVENT
DTSTART;TZID=America/Chicago:20240721T100000
DTEND;TZID=America/Chicago:20240721T111500
DTSTAMP:20260424T160754
CREATED:20240624T163857Z
LAST-MODIFIED:20240624T164743Z
UID:3286-1721556000-1721560500@firstcenturykc.com
SUMMARY:On The Road Again - Wk2
DESCRIPTION:We follow Paul on more adventures as he embarks on his 3rd missionary journey in the first century.
URL:http://firstcenturykc.com/event/on-the-road-again-wk2/
CATEGORIES:Gatherings
ATTACH;FMTTYPE=image/jpeg:http://firstcenturykc.com/wp-content/uploads/2024/06/On-The-Road-Again-SQUARE-PLAIN-FINAL-1.jpg
END:VEVENT
BEGIN:VEVENT
DTSTART;TZID=America/Chicago:20240714T100000
DTEND;TZID=America/Chicago:20240714T111500
DTSTAMP:20260424T160754
CREATED:20240624T163812Z
LAST-MODIFIED:20240624T164723Z
UID:3283-1720951200-1720955700@firstcenturykc.com
SUMMARY:On The Road Again - Wk1
DESCRIPTION:We follow Paul on more adventures as he embarks on his 3rd missionary journey in the first century.
URL:http://firstcenturykc.com/event/on-the-road-again-wk1/
CATEGORIES:Gatherings
ATTACH;FMTTYPE=image/jpeg:http://firstcenturykc.com/wp-content/uploads/2024/06/On-The-Road-Again-SQUARE-PLAIN-FINAL-1.jpg
END:VEVENT
BEGIN:VEVENT
DTSTART;TZID=America/Chicago:20240707T100000
DTEND;TZID=America/Chicago:20240707T111500
DTSTAMP:20260424T160754
CREATED:20240624T163512Z
LAST-MODIFIED:20240624T163512Z
UID:3281-1720346400-1720350900@firstcenturykc.com
SUMMARY:Collide - Wk13
DESCRIPTION:Mindsets collide\, worldviews collide\, and cultures collide in this series that takes place in the heart of the book of Acts!
URL:http://firstcenturykc.com/event/collide-wk13/
CATEGORIES:Gatherings
ATTACH;FMTTYPE=image/jpeg:http://firstcenturykc.com/wp-content/uploads/2024/02/Collide-SQUARE-FINAL.jpg
END:VEVENT
BEGIN:VEVENT
DTSTART;TZID=America/Chicago:20240630T100000
DTEND;TZID=America/Chicago:20240630T111500
DTSTAMP:20260424T160754
CREATED:20240615T004200Z
LAST-MODIFIED:20240615T004200Z
UID:3270-1719741600-1719746100@firstcenturykc.com
SUMMARY:Collide - Wk12
DESCRIPTION:Mindsets collide\, worldviews collide\, and cultures collide in this series that takes place in the heart of the book of Acts!
URL:http://firstcenturykc.com/event/collide-wk12/
CATEGORIES:Gatherings
ATTACH;FMTTYPE=image/jpeg:http://firstcenturykc.com/wp-content/uploads/2024/02/Collide-SQUARE-FINAL.jpg
END:VEVENT
BEGIN:VEVENT
DTSTART;TZID=America/Chicago:20240623T100000
DTEND;TZID=America/Chicago:20240623T111500
DTSTAMP:20260424T160754
CREATED:20240615T004113Z
LAST-MODIFIED:20240615T004113Z
UID:3268-1719136800-1719141300@firstcenturykc.com
SUMMARY:Collide - Wk11
DESCRIPTION:Mindsets collide\, worldviews collide\, and cultures collide in this series that takes place in the heart of the book of Acts!
URL:http://firstcenturykc.com/event/collide-wk11/
CATEGORIES:Gatherings
ATTACH;FMTTYPE=image/jpeg:http://firstcenturykc.com/wp-content/uploads/2024/02/Collide-SQUARE-FINAL.jpg
END:VEVENT
BEGIN:VEVENT
DTSTART;TZID=America/Chicago:20240616T100000
DTEND;TZID=America/Chicago:20240616T110000
DTSTAMP:20260424T160754
CREATED:20240518T220435Z
LAST-MODIFIED:20240518T220435Z
UID:3252-1718532000-1718535600@firstcenturykc.com
SUMMARY:Father's Day
DESCRIPTION:Join us as we celebrate Fatherhood and continue our series “Collide”!
URL:http://firstcenturykc.com/event/fathers-day-6/
CATEGORIES:Gatherings
ATTACH;FMTTYPE=image/jpeg:http://firstcenturykc.com/wp-content/uploads/2024/05/Fathers-Day-2024-SQUARE-FINAL.jpg
END:VEVENT
BEGIN:VEVENT
DTSTART;TZID=America/Chicago:20240609T100000
DTEND;TZID=America/Chicago:20240609T110000
DTSTAMP:20260424T160754
CREATED:20240518T215557Z
LAST-MODIFIED:20240518T215557Z
UID:3250-1717927200-1717930800@firstcenturykc.com
SUMMARY:Collide - Wk9
DESCRIPTION:Mindsets collide\, worldviews collide\, and cultures collide in this series that takes place in the heart of the book of Acts!
URL:http://firstcenturykc.com/event/collide-wk9/
CATEGORIES:Gatherings
ATTACH;FMTTYPE=image/jpeg:http://firstcenturykc.com/wp-content/uploads/2024/02/Collide-SQUARE-FINAL.jpg
END:VEVENT
BEGIN:VEVENT
DTSTART;TZID=America/Chicago:20240602T100000
DTEND;TZID=America/Chicago:20240602T110000
DTSTAMP:20260424T160754
CREATED:20240518T215339Z
LAST-MODIFIED:20240518T215506Z
UID:3248-1717322400-1717326000@firstcenturykc.com
SUMMARY:Collide - Wk8
DESCRIPTION:Mindsets collide\, worldviews collide\, and cultures collide in this series that takes place in the heart of the book of Acts!
URL:http://firstcenturykc.com/event/collide-wk8/
CATEGORIES:Gatherings
ATTACH;FMTTYPE=image/jpeg:http://firstcenturykc.com/wp-content/uploads/2024/02/Collide-SQUARE-FINAL.jpg
END:VEVENT
BEGIN:VEVENT
DTSTART;TZID=America/Chicago:20240526T100000
DTEND;TZID=America/Chicago:20240526T111500
DTSTAMP:20260424T160754
CREATED:20240307T000959Z
LAST-MODIFIED:20240307T000959Z
UID:3223-1716717600-1716722100@firstcenturykc.com
SUMMARY:Collide - Wk7
DESCRIPTION:Mindsets collide\, worldviews collide\, and cultures collide in this series that takes place in the heart of the book of Acts!
URL:http://firstcenturykc.com/event/collide-wk7/
CATEGORIES:Gatherings
ATTACH;FMTTYPE=image/jpeg:http://firstcenturykc.com/wp-content/uploads/2024/02/Collide-SQUARE-FINAL.jpg
END:VEVENT
BEGIN:VEVENT
DTSTART;TZID=America/Chicago:20240519T100000
DTEND;TZID=America/Chicago:20240519T111500
DTSTAMP:20260424T160754
CREATED:20240307T000444Z
LAST-MODIFIED:20240307T000444Z
UID:3217-1716112800-1716117300@firstcenturykc.com
SUMMARY:Collide - Wk6
DESCRIPTION:Mindsets collide\, worldviews collide\, and cultures collide in this series that takes place in the heart of the book of Acts!
URL:http://firstcenturykc.com/event/collide-wk6/
CATEGORIES:Gatherings
ATTACH;FMTTYPE=image/jpeg:http://firstcenturykc.com/wp-content/uploads/2024/02/Collide-SQUARE-FINAL.jpg
END:VEVENT
BEGIN:VEVENT
DTSTART;TZID=America/Chicago:20240519T100000
DTEND;TZID=America/Chicago:20240519T110000
DTSTAMP:20260424T160754
CREATED:20240518T215216Z
LAST-MODIFIED:20240518T215216Z
UID:3246-1716112800-1716116400@firstcenturykc.com
SUMMARY:Water Baptisms
DESCRIPTION:We will have water baptisms as part of our gathering on Sunday\, May 19th!
URL:http://firstcenturykc.com/event/water-baptisms-2/
CATEGORIES:Gatherings
ATTACH;FMTTYPE=image/jpeg:http://firstcenturykc.com/wp-content/uploads/2023/03/Baptism-Spring-2022-SQUARE-FINAL.jpg
END:VEVENT
END:VCALENDAR