BEGIN:VCALENDAR
VERSION:2.0
PRODID:-//First Century Church - ECPv6.15.20//NONSGML v1.0//EN
CALSCALE:GREGORIAN
METHOD:PUBLISH
X-ORIGINAL-URL:http://firstcenturykc.com
X-WR-CALDESC:Events for First Century Church
REFRESH-INTERVAL;VALUE=DURATION:PT1H
X-Robots-Tag:noindex
X-PUBLISHED-TTL:PT1H
BEGIN:VTIMEZONE
TZID:America/Chicago
BEGIN:DAYLIGHT
TZOFFSETFROM:-0600
TZOFFSETTO:-0500
TZNAME:CDT
DTSTART:20240310T080000
END:DAYLIGHT
BEGIN:STANDARD
TZOFFSETFROM:-0500
TZOFFSETTO:-0600
TZNAME:CST
DTSTART:20241103T070000
END:STANDARD
BEGIN:DAYLIGHT
TZOFFSETFROM:-0600
TZOFFSETTO:-0500
TZNAME:CDT
DTSTART:20250309T080000
END:DAYLIGHT
BEGIN:STANDARD
TZOFFSETFROM:-0500
TZOFFSETTO:-0600
TZNAME:CST
DTSTART:20251102T070000
END:STANDARD
BEGIN:DAYLIGHT
TZOFFSETFROM:-0600
TZOFFSETTO:-0500
TZNAME:CDT
DTSTART:20260308T080000
END:DAYLIGHT
BEGIN:STANDARD
TZOFFSETFROM:-0500
TZOFFSETTO:-0600
TZNAME:CST
DTSTART:20261101T070000
END:STANDARD
END:VTIMEZONE
BEGIN:VEVENT
DTSTART;TZID=America/Chicago:20251228T100000
DTEND;TZID=America/Chicago:20251228T103000
DTSTAMP:20260423T233154
CREATED:20251217T223130Z
LAST-MODIFIED:20251217T224929Z
UID:3717-1766916000-1766917800@firstcenturykc.com
SUMMARY:Scattered Sunday 2025
DESCRIPTION:The final Sunday of each year we are ONLINE-ONLY for “Scattered Sunday”! This allows people time to travel\, rest\, reset\, and get ready for the New Year. We would love for you to engage with our special end-of-year video devotional (which goes LIVE at 10am CST) at any of these links: \n  \nYouTube: https://www.youtube.com/@firstcenturychurchkc \nFacebook: https://www.facebook.com/firstcenturykc \nWebsite: https://firstcenturykc.com/video-home/ \n  \nWe can’t wait to see you in-person for our first gathering of the year on Sunday\, January 4\, 2026 at 10AM!
URL:http://firstcenturykc.com/event/3717/
LOCATION:MO
CATEGORIES:Gatherings
ATTACH;FMTTYPE=image/jpeg:http://firstcenturykc.com/wp-content/uploads/2025/12/Slide1-1.jpg
END:VEVENT
BEGIN:VEVENT
DTSTART;TZID=America/Chicago:20251224T170000
DTEND;TZID=America/Chicago:20251224T180000
DTSTAMP:20260423T233154
CREATED:20251113T004307Z
LAST-MODIFIED:20251113T004307Z
UID:3699-1766595600-1766599200@firstcenturykc.com
SUMMARY:Christmas Eve @ First Century
DESCRIPTION:It’s the most wonderful time of the year! \nYour entire family is invited to join us for Christmas Eve @ First Century! This candlelit gathering will include many of your favorite carols\, songs from our 1CKids\, and some hot cocoa to warm you on this cold winter’s night. We’ll also hear the classic Christmas birth story and an encouraging message from Pastor Stephen. \nWe hope you make Christmas Eve @ First Century part of your Holiday tradition!
URL:http://firstcenturykc.com/event/christmas-eve-first-century-3/
LOCATION:First Century Church\, 7137 NW Lingley Drive\, Parkville\, MO\, 64152\, United States
CATEGORIES:Gatherings
ATTACH;FMTTYPE=image/jpeg:http://firstcenturykc.com/wp-content/uploads/2025/11/Christmas-Eve-2025-PLAIN-WIDE.jpg
END:VEVENT
BEGIN:VEVENT
DTSTART;TZID=America/Chicago:20251221T100000
DTEND;TZID=America/Chicago:20251221T111500
DTSTAMP:20260423T233154
CREATED:20251217T221345Z
LAST-MODIFIED:20251217T221345Z
UID:3715-1766311200-1766315700@firstcenturykc.com
SUMMARY:Predictive Texts - Wk2
DESCRIPTION:Join us for our Christmas series as we look at Old Testament scriptures\, figures\, and events which predict who Jesus would be and what Jesus would do.
URL:http://firstcenturykc.com/event/predictive-texts-wk2/
LOCATION:MO
CATEGORIES:Gatherings
ATTACH;FMTTYPE=image/jpeg:http://firstcenturykc.com/wp-content/uploads/2025/12/Slide1.jpg
END:VEVENT
BEGIN:VEVENT
DTSTART;TZID=America/Chicago:20251214T100000
DTEND;TZID=America/Chicago:20251214T111500
DTSTAMP:20260423T233154
CREATED:20251217T221012Z
LAST-MODIFIED:20251217T221012Z
UID:3712-1765706400-1765710900@firstcenturykc.com
SUMMARY:Predictive Texts - Wk1
DESCRIPTION:Join us for our Christmas series as we look at Old Testament scriptures\, figures\, and events which predict who Jesus would be and what Jesus would do.
URL:http://firstcenturykc.com/event/predictive-texts-wk1/
LOCATION:First Century Church\, 7137 NW Lingley Drive\, Parkville\, MO\, 64152\, United States
CATEGORIES:Gatherings
ATTACH;FMTTYPE=image/jpeg:http://firstcenturykc.com/wp-content/uploads/2025/12/Predictive-Texts-Christmas-series-TITLE-SQUARE-FINAL.jpg
END:VEVENT
BEGIN:VEVENT
DTSTART;TZID=America/Chicago:20251207T100000
DTEND;TZID=America/Chicago:20251207T111500
DTSTAMP:20260423T233154
CREATED:20251113T003524Z
LAST-MODIFIED:20251113T003524Z
UID:3697-1765101600-1765106100@firstcenturykc.com
SUMMARY:Wisdom For Life - Wk14
DESCRIPTION:*SERIES FINALE* In this Fall series we will work through the New Testament book of James and discover practical ways to live out a life of faith
URL:http://firstcenturykc.com/event/wisdom-for-life-wk14/
LOCATION:First Century Church\, 7137 NW Lingley Drive\, Parkville\, MO\, 64152\, United States
CATEGORIES:Gatherings
ATTACH;FMTTYPE=image/jpeg:http://firstcenturykc.com/wp-content/uploads/2025/08/Wisdom-For-Life-James-2025-TITLE-SQUARE-FINAL.jpg
END:VEVENT
BEGIN:VEVENT
DTSTART;TZID=America/Chicago:20251130T100000
DTEND;TZID=America/Chicago:20251130T111500
DTSTAMP:20260423T233154
CREATED:20251001T235124Z
LAST-MODIFIED:20251113T003202Z
UID:3674-1764496800-1764501300@firstcenturykc.com
SUMMARY:Wisdom For Life - Wk13
DESCRIPTION:In this Fall series we will work through the New Testament book of James and discover practical ways to live out a life of faith
URL:http://firstcenturykc.com/event/wisdom-for-life-wk12/
LOCATION:First Century Church\, 7137 NW Lingley Drive\, Parkville\, MO\, 64152\, United States
CATEGORIES:Gatherings
ATTACH;FMTTYPE=image/jpeg:http://firstcenturykc.com/wp-content/uploads/2025/08/Wisdom-For-Life-James-2025-TITLE-SQUARE-FINAL.jpg
END:VEVENT
BEGIN:VEVENT
DTSTART;TZID=America/Chicago:20251123T100000
DTEND;TZID=America/Chicago:20251123T111500
DTSTAMP:20260423T233154
CREATED:20251113T003327Z
LAST-MODIFIED:20251113T003327Z
UID:3695-1763892000-1763896500@firstcenturykc.com
SUMMARY:Wisdom For Life - Wk12
DESCRIPTION:In this Fall series we will work through the New Testament book of James and discover practical ways to live out a life of faith
URL:http://firstcenturykc.com/event/wisdom-for-life-wk12-2/
LOCATION:First Century Church\, 7137 NW Lingley Drive\, Parkville\, MO\, 64152\, United States
CATEGORIES:Gatherings
ATTACH;FMTTYPE=image/jpeg:http://firstcenturykc.com/wp-content/uploads/2025/08/Wisdom-For-Life-James-2025-TITLE-SQUARE-FINAL.jpg
END:VEVENT
BEGIN:VEVENT
DTSTART;TZID=America/Chicago:20251116T100000
DTEND;TZID=America/Chicago:20251116T111500
DTSTAMP:20260423T233154
CREATED:20251001T235022Z
LAST-MODIFIED:20251001T235022Z
UID:3672-1763287200-1763291700@firstcenturykc.com
SUMMARY:Wisdom For Life - Wk11
DESCRIPTION:In this Fall series we will work through the New Testament book of James and discover practical ways to live out a life of faith
URL:http://firstcenturykc.com/event/wisdom-for-life-wk11/
LOCATION:First Century Church\, 7137 NW Lingley Drive\, Parkville\, MO\, 64152\, United States
CATEGORIES:Gatherings
ATTACH;FMTTYPE=image/jpeg:http://firstcenturykc.com/wp-content/uploads/2025/08/Wisdom-For-Life-James-2025-TITLE-SQUARE-FINAL.jpg
END:VEVENT
BEGIN:VEVENT
DTSTART;TZID=America/Chicago:20251109T100000
DTEND;TZID=America/Chicago:20251109T111500
DTSTAMP:20260423T233154
CREATED:20251001T234921Z
LAST-MODIFIED:20251001T234921Z
UID:3670-1762682400-1762686900@firstcenturykc.com
SUMMARY:Wisdom For Life - Wk10
DESCRIPTION:In this Fall series we will work through the New Testament book of James and discover practical ways to live out a life of faith
URL:http://firstcenturykc.com/event/wisdom-for-life-wk10/
LOCATION:MO
CATEGORIES:Gatherings
ATTACH;FMTTYPE=image/jpeg:http://firstcenturykc.com/wp-content/uploads/2025/08/Wisdom-For-Life-James-2025-TITLE-SQUARE-FINAL.jpg
END:VEVENT
BEGIN:VEVENT
DTSTART;TZID=America/Chicago:20251102T100000
DTEND;TZID=America/Chicago:20251102T111500
DTSTAMP:20260423T233154
CREATED:20251001T234828Z
LAST-MODIFIED:20251001T234828Z
UID:3668-1762077600-1762082100@firstcenturykc.com
SUMMARY:Wisdom For Life - Wk9
DESCRIPTION:In this Fall series we will work through the New Testament book of James and discover practical ways to live out a life of faith
URL:http://firstcenturykc.com/event/wisdom-for-life-wk9/
LOCATION:First Century Church\, 7137 NW Lingley Drive\, Parkville\, MO\, 64152\, United States
CATEGORIES:Gatherings
ATTACH;FMTTYPE=image/jpeg:http://firstcenturykc.com/wp-content/uploads/2025/08/Wisdom-For-Life-James-2025-TITLE-SQUARE-FINAL.jpg
END:VEVENT
BEGIN:VEVENT
DTSTART;TZID=America/Chicago:20251026T100000
DTEND;TZID=America/Chicago:20251026T111500
DTSTAMP:20260423T233154
CREATED:20251001T234500Z
LAST-MODIFIED:20251001T234500Z
UID:3666-1761472800-1761477300@firstcenturykc.com
SUMMARY:Wisdom For Life - Wk8
DESCRIPTION:In this Fall series we will work through the New Testament book of James and discover practical ways to live out a life of faith
URL:http://firstcenturykc.com/event/wisdom-for-life-wk8/
LOCATION:First Century Church\, 7137 NW Lingley Drive\, Parkville\, MO\, 64152\, United States
CATEGORIES:Gatherings
ATTACH;FMTTYPE=image/jpeg:http://firstcenturykc.com/wp-content/uploads/2025/08/Wisdom-For-Life-James-2025-TITLE-SQUARE-FINAL.jpg
END:VEVENT
BEGIN:VEVENT
DTSTART;TZID=America/Chicago:20251019T100000
DTEND;TZID=America/Chicago:20251019T111500
DTSTAMP:20260423T233154
CREATED:20251001T234335Z
LAST-MODIFIED:20251001T234335Z
UID:3664-1760868000-1760872500@firstcenturykc.com
SUMMARY:Wisdom For Life - Wk7
DESCRIPTION:In this Fall series we will work through the New Testament book of James and discover practical ways to live out a life of faith
URL:http://firstcenturykc.com/event/wisdom-for-life-wk7/
LOCATION:MO
CATEGORIES:Gatherings
ATTACH;FMTTYPE=image/jpeg:http://firstcenturykc.com/wp-content/uploads/2025/08/Wisdom-For-Life-James-2025-TITLE-SQUARE-FINAL.jpg
END:VEVENT
BEGIN:VEVENT
DTSTART;TZID=America/Chicago:20251012T100000
DTEND;TZID=America/Chicago:20251012T101500
DTSTAMP:20260423T233154
CREATED:20251001T234142Z
LAST-MODIFIED:20251001T234142Z
UID:3662-1760263200-1760264100@firstcenturykc.com
SUMMARY:Wisdom For Life - Wk6
DESCRIPTION:In this Fall series we will work through the New Testament book of James and discover practical ways to live out a life of faith
URL:http://firstcenturykc.com/event/wisdom-for-life-wk6/
LOCATION:MO
CATEGORIES:Gatherings
ATTACH;FMTTYPE=image/jpeg:http://firstcenturykc.com/wp-content/uploads/2025/08/Wisdom-For-Life-James-2025-TITLE-SQUARE-FINAL.jpg
END:VEVENT
BEGIN:VEVENT
DTSTART;TZID=America/Chicago:20251005T100000
DTEND;TZID=America/Chicago:20251005T101500
DTSTAMP:20260423T233154
CREATED:20251001T234009Z
LAST-MODIFIED:20251001T234009Z
UID:3660-1759658400-1759659300@firstcenturykc.com
SUMMARY:Wisdom For Life - Wk5
DESCRIPTION:In this Fall series we will work through the New Testament book of James and discover practical ways to live out a life of faith
URL:http://firstcenturykc.com/event/wisdom-for-life-wk5/
LOCATION:MO
CATEGORIES:Gatherings
ATTACH;FMTTYPE=image/jpeg:http://firstcenturykc.com/wp-content/uploads/2025/08/Wisdom-For-Life-James-2025-TITLE-SQUARE-FINAL.jpg
END:VEVENT
BEGIN:VEVENT
DTSTART;TZID=America/Chicago:20250921T100000
DTEND;TZID=America/Chicago:20250921T111500
DTSTAMP:20260423T233154
CREATED:20250821T222050Z
LAST-MODIFIED:20250821T222050Z
UID:3637-1758448800-1758453300@firstcenturykc.com
SUMMARY:Wisdom For Life - Wk4
DESCRIPTION:In this Fall series we will work through the New Testament book of James and discover practical ways to live out a life of faith
URL:http://firstcenturykc.com/event/wisdom-for-life-wk4/
LOCATION:MO
CATEGORIES:Gatherings
ATTACH;FMTTYPE=image/jpeg:http://firstcenturykc.com/wp-content/uploads/2025/08/Wisdom-For-Life-James-2025-TITLE-SQUARE-FINAL.jpg
END:VEVENT
BEGIN:VEVENT
DTSTART;TZID=America/Chicago:20250914T100000
DTEND;TZID=America/Chicago:20250914T111500
DTSTAMP:20260423T233154
CREATED:20250821T221947Z
LAST-MODIFIED:20250821T221947Z
UID:3635-1757844000-1757848500@firstcenturykc.com
SUMMARY:Wisdom For Life - Wk3
DESCRIPTION:In this Fall series we will work through the New Testament book of James and discover practical ways to live out a life of faith
URL:http://firstcenturykc.com/event/wisdom-for-life-wk3/
LOCATION:MO
CATEGORIES:Gatherings
ATTACH;FMTTYPE=image/jpeg:http://firstcenturykc.com/wp-content/uploads/2025/08/Wisdom-For-Life-James-2025-TITLE-SQUARE-FINAL.jpg
END:VEVENT
BEGIN:VEVENT
DTSTART;TZID=America/Chicago:20250907T100000
DTEND;TZID=America/Chicago:20250907T111500
DTSTAMP:20260423T233154
CREATED:20250821T221906Z
LAST-MODIFIED:20250821T221906Z
UID:3633-1757239200-1757243700@firstcenturykc.com
SUMMARY:Wisdom For Life - Wk2
DESCRIPTION:In this Fall series we will work through the New Testament book of James and discover practical ways to live out a life of faith
URL:http://firstcenturykc.com/event/wisdom-for-life-wk2/
LOCATION:MO
CATEGORIES:Gatherings
ATTACH;FMTTYPE=image/jpeg:http://firstcenturykc.com/wp-content/uploads/2025/08/Wisdom-For-Life-James-2025-TITLE-SQUARE-FINAL.jpg
END:VEVENT
BEGIN:VEVENT
DTSTART;TZID=America/Chicago:20250831T100000
DTEND;TZID=America/Chicago:20250831T111500
DTSTAMP:20260423T233154
CREATED:20250821T221811Z
LAST-MODIFIED:20250821T221811Z
UID:3630-1756634400-1756638900@firstcenturykc.com
SUMMARY:Wisdom For Life - Wk1
DESCRIPTION:In this Fall series we will work through the New Testament book of James and discover practical ways to live out a life of faith
URL:http://firstcenturykc.com/event/wisdom-for-life-wk1/
LOCATION:MO
CATEGORIES:Gatherings
ATTACH;FMTTYPE=image/jpeg:http://firstcenturykc.com/wp-content/uploads/2025/08/Wisdom-For-Life-James-2025-TITLE-SQUARE-FINAL.jpg
END:VEVENT
BEGIN:VEVENT
DTSTART;TZID=America/Chicago:20250824T100000
DTEND;TZID=America/Chicago:20250824T111500
DTSTAMP:20260423T233154
CREATED:20250821T221635Z
LAST-MODIFIED:20250821T221635Z
UID:3628-1756029600-1756034100@firstcenturykc.com
SUMMARY:Psummer Psalms - Wk7
DESCRIPTION:Join us for this 6-week series examining some interesting stories and key themes of a few Old Testament Psalms!
URL:http://firstcenturykc.com/event/psummer-psalms-wk7/
LOCATION:MO
CATEGORIES:Gatherings
ATTACH;FMTTYPE=image/jpeg:http://firstcenturykc.com/wp-content/uploads/2025/07/Psalm-Psummer-summer-2025-series-TITLE-SQUARE-PLAIN.jpg
END:VEVENT
BEGIN:VEVENT
DTSTART;TZID=America/Chicago:20250817T100000
DTEND;TZID=America/Chicago:20250817T111500
DTSTAMP:20260423T233154
CREATED:20250710T214218Z
LAST-MODIFIED:20250710T214218Z
UID:3600-1755424800-1755429300@firstcenturykc.com
SUMMARY:Psummer Psalms - Wk6
DESCRIPTION:Join us for this 6-week series examining some interesting stories and key themes of a few Old Testament Psalms!
URL:http://firstcenturykc.com/event/psummer-psalms-wk6/
LOCATION:First Century Church\, 7137 NW Lingley Drive\, Parkville\, MO\, 64152\, United States
CATEGORIES:Gatherings
ATTACH;FMTTYPE=image/jpeg:http://firstcenturykc.com/wp-content/uploads/2025/07/Psalm-Psummer-summer-2025-series-TITLE-SQUARE-PLAIN.jpg
END:VEVENT
BEGIN:VEVENT
DTSTART;TZID=America/Chicago:20250810T100000
DTEND;TZID=America/Chicago:20250810T111500
DTSTAMP:20260423T233154
CREATED:20250710T024402Z
LAST-MODIFIED:20250710T024402Z
UID:3598-1754820000-1754824500@firstcenturykc.com
SUMMARY:Psummer Psalms - Wk5
DESCRIPTION:Join us for this 6-week series examining some interesting stories and key themes of a few Old Testament Psalms!
URL:http://firstcenturykc.com/event/psummer-psalms-wk5/
LOCATION:First Century Church\, 7137 NW Lingley Drive\, Parkville\, MO\, 64152\, United States
CATEGORIES:Gatherings
ATTACH;FMTTYPE=image/jpeg:http://firstcenturykc.com/wp-content/uploads/2025/07/Psalm-Psummer-summer-2025-series-TITLE-SQUARE-PLAIN.jpg
END:VEVENT
BEGIN:VEVENT
DTSTART;TZID=America/Chicago:20250803T100000
DTEND;TZID=America/Chicago:20250803T111500
DTSTAMP:20260423T233154
CREATED:20250710T021708Z
LAST-MODIFIED:20250710T021708Z
UID:3596-1754215200-1754219700@firstcenturykc.com
SUMMARY:Psummer Psalms - Wk4
DESCRIPTION:Join us for this 6-week series examining some interesting stories and key themes of a few Old Testament Psalms!
URL:http://firstcenturykc.com/event/psummer-psalms-wk4/
LOCATION:First Century Church\, 7137 NW Lingley Drive\, Parkville\, MO\, 64152\, United States
CATEGORIES:Gatherings
ATTACH;FMTTYPE=image/jpeg:http://firstcenturykc.com/wp-content/uploads/2025/07/Psalm-Psummer-summer-2025-series-TITLE-SQUARE-PLAIN.jpg
END:VEVENT
BEGIN:VEVENT
DTSTART;TZID=America/Chicago:20250727T100000
DTEND;TZID=America/Chicago:20250727T111500
DTSTAMP:20260423T233154
CREATED:20250710T015816Z
LAST-MODIFIED:20250710T015816Z
UID:3594-1753610400-1753614900@firstcenturykc.com
SUMMARY:Psummer Psalms - Wk3
DESCRIPTION:Join us for this 6-week series examining some interesting stories and key themes of a few Old Testament Psalms!
URL:http://firstcenturykc.com/event/psummer-psalms-wk3/
LOCATION:First Century Church\, 7137 NW Lingley Drive\, Parkville\, MO\, 64152\, United States
CATEGORIES:Gatherings
ATTACH;FMTTYPE=image/jpeg:http://firstcenturykc.com/wp-content/uploads/2025/07/Psalm-Psummer-summer-2025-series-TITLE-SQUARE-PLAIN.jpg
END:VEVENT
BEGIN:VEVENT
DTSTART;TZID=America/Chicago:20250720T100000
DTEND;TZID=America/Chicago:20250720T111500
DTSTAMP:20260423T233154
CREATED:20250710T015719Z
LAST-MODIFIED:20250710T015719Z
UID:3592-1753005600-1753010100@firstcenturykc.com
SUMMARY:Psummer Psalms - Wk2
DESCRIPTION:Join us for this 6-week series examining some interesting stories and key themes of a few Old Testament Psalms!
URL:http://firstcenturykc.com/event/psummer-psalms-wk2/
LOCATION:First Century Church\, 7137 NW Lingley Drive\, Parkville\, MO\, 64152\, United States
CATEGORIES:Gatherings
ATTACH;FMTTYPE=image/jpeg:http://firstcenturykc.com/wp-content/uploads/2025/07/Psalm-Psummer-summer-2025-series-TITLE-SQUARE-PLAIN.jpg
END:VEVENT
BEGIN:VEVENT
DTSTART;TZID=America/Chicago:20250713T100000
DTEND;TZID=America/Chicago:20250713T111500
DTSTAMP:20260423T233154
CREATED:20250710T011218Z
LAST-MODIFIED:20250710T011218Z
UID:3586-1752400800-1752405300@firstcenturykc.com
SUMMARY:Psummer Psalms - Wk1
DESCRIPTION:Join us for this 6-week series examining some interesting stories and key themes of a few Old Testament Psalms!
URL:http://firstcenturykc.com/event/psummer-psalms-wk1/
LOCATION:First Century Church\, 7137 NW Lingley Drive\, Parkville\, MO\, 64152\, United States
CATEGORIES:Gatherings
ATTACH;FMTTYPE=image/jpeg:http://firstcenturykc.com/wp-content/uploads/2025/07/Psalm-Psummer-summer-2025-series-TITLE-SQUARE-PLAIN.jpg
END:VEVENT
BEGIN:VEVENT
DTSTART;TZID=America/Chicago:20250706T100000
DTEND;TZID=America/Chicago:20250706T111500
DTSTAMP:20260423T233154
CREATED:20250520T155740Z
LAST-MODIFIED:20250520T155740Z
UID:3567-1751796000-1751800500@firstcenturykc.com
SUMMARY:The Beatitudes - Wk9
DESCRIPTION:We conclude our series on Jesus’ teachings called “The Beatitudes” with possibly saving the most difficult one for last. Join us for a powerful time of worship and this series-concluding message!
URL:http://firstcenturykc.com/event/the-beatitudes-wk9/
LOCATION:MO
CATEGORIES:Gatherings
ATTACH;FMTTYPE=image/jpeg:http://firstcenturykc.com/wp-content/uploads/2025/04/Beatitudes-2025-title-SQUARE-FINAL.jpg
END:VEVENT
BEGIN:VEVENT
DTSTART;TZID=America/Chicago:20250629T100000
DTEND;TZID=America/Chicago:20250629T111500
DTSTAMP:20260423T233154
CREATED:20250520T155523Z
LAST-MODIFIED:20250520T155523Z
UID:3564-1751191200-1751195700@firstcenturykc.com
SUMMARY:1Ckids Takeover Sunday
DESCRIPTION:On Sunday\, June 29th\, “kids church” takes over “big church”! \nOur entire church will get a first-hand experience into how our kids learn about Jesus as our 1CKids Director\, Jessica Johnston\, leads a churchwide kids gathering in the main auditorium! There will be upbeat songs\, an interactive lesson\, and more as the kids take over!
URL:http://firstcenturykc.com/event/1ckids-takeover-sunday/
LOCATION:MO
CATEGORIES:Gatherings
ATTACH;FMTTYPE=image/jpeg:http://firstcenturykc.com/wp-content/uploads/2025/05/Takeover-Sunday-6.29.25-SQUARE-W-BORDER-FINAL.jpg
END:VEVENT
BEGIN:VEVENT
DTSTART;TZID=America/Chicago:20250622T100000
DTEND;TZID=America/Chicago:20250622T111500
DTSTAMP:20260423T233154
CREATED:20250520T155004Z
LAST-MODIFIED:20250520T155041Z
UID:3560-1750586400-1750590900@firstcenturykc.com
SUMMARY:Baptism Sunday
DESCRIPTION:We love to see people go public with their faith through water baptism. We will celebrate water baptisms during our gathering on Sunday\, June 22nd. We will also continue our series through The Beatitudes.
URL:http://firstcenturykc.com/event/baptism-sunday-2/
LOCATION:MO
CATEGORIES:Gatherings
ATTACH;FMTTYPE=image/jpeg:http://firstcenturykc.com/wp-content/uploads/2025/05/Baptism-June-2025-SQUARE-FINAL.jpg
END:VEVENT
BEGIN:VEVENT
DTSTART;TZID=America/Chicago:20250615T100000
DTEND;TZID=America/Chicago:20250615T111500
DTSTAMP:20260423T233154
CREATED:20250420T042231Z
LAST-MODIFIED:20250420T042231Z
UID:3540-1749981600-1749986100@firstcenturykc.com
SUMMARY:Father's Day 2025
DESCRIPTION:Join us as we celebrate dads in our gathering and also continue our series on the Beatitudes
URL:http://firstcenturykc.com/event/fathers-day-2025/
LOCATION:MO
CATEGORIES:Gatherings
ATTACH;FMTTYPE=image/jpeg:http://firstcenturykc.com/wp-content/uploads/2025/04/Fathers-Day-2025-SQUARE-FINAL.jpg
END:VEVENT
BEGIN:VEVENT
DTSTART;TZID=America/Chicago:20250608T100000
DTEND;TZID=America/Chicago:20250608T111500
DTSTAMP:20260423T233154
CREATED:20250420T042117Z
LAST-MODIFIED:20250520T154557Z
UID:3538-1749376800-1749381300@firstcenturykc.com
SUMMARY:The Beatitudes - Wk6
DESCRIPTION:In this series we will look at how we can practically live a truly different\, truly blessed life by living the way of Jesus
URL:http://firstcenturykc.com/event/the-beatitudes-wk7/
LOCATION:MO
CATEGORIES:Gatherings
ATTACH;FMTTYPE=image/jpeg:http://firstcenturykc.com/wp-content/uploads/2025/04/Beatitudes-2025-title-SQUARE-FINAL.jpg
END:VEVENT
END:VCALENDAR