BEGIN:VCALENDAR
VERSION:2.0
PRODID:-//First Century Church - ECPv6.15.20//NONSGML v1.0//EN
CALSCALE:GREGORIAN
METHOD:PUBLISH
X-ORIGINAL-URL:http://firstcenturykc.com
X-WR-CALDESC:Events for First Century Church
REFRESH-INTERVAL;VALUE=DURATION:PT1H
X-Robots-Tag:noindex
X-PUBLISHED-TTL:PT1H
BEGIN:VTIMEZONE
TZID:America/Chicago
BEGIN:DAYLIGHT
TZOFFSETFROM:-0600
TZOFFSETTO:-0500
TZNAME:CDT
DTSTART:20130310T080000
END:DAYLIGHT
BEGIN:STANDARD
TZOFFSETFROM:-0500
TZOFFSETTO:-0600
TZNAME:CST
DTSTART:20131103T070000
END:STANDARD
BEGIN:DAYLIGHT
TZOFFSETFROM:-0600
TZOFFSETTO:-0500
TZNAME:CDT
DTSTART:20140309T080000
END:DAYLIGHT
BEGIN:STANDARD
TZOFFSETFROM:-0500
TZOFFSETTO:-0600
TZNAME:CST
DTSTART:20141102T070000
END:STANDARD
BEGIN:DAYLIGHT
TZOFFSETFROM:-0600
TZOFFSETTO:-0500
TZNAME:CDT
DTSTART:20150308T080000
END:DAYLIGHT
BEGIN:STANDARD
TZOFFSETFROM:-0500
TZOFFSETTO:-0600
TZNAME:CST
DTSTART:20151101T070000
END:STANDARD
BEGIN:DAYLIGHT
TZOFFSETFROM:-0600
TZOFFSETTO:-0500
TZNAME:CDT
DTSTART:20160313T080000
END:DAYLIGHT
BEGIN:STANDARD
TZOFFSETFROM:-0500
TZOFFSETTO:-0600
TZNAME:CST
DTSTART:20161106T070000
END:STANDARD
BEGIN:DAYLIGHT
TZOFFSETFROM:-0600
TZOFFSETTO:-0500
TZNAME:CDT
DTSTART:20170312T080000
END:DAYLIGHT
BEGIN:STANDARD
TZOFFSETFROM:-0500
TZOFFSETTO:-0600
TZNAME:CST
DTSTART:20171105T070000
END:STANDARD
BEGIN:DAYLIGHT
TZOFFSETFROM:-0600
TZOFFSETTO:-0500
TZNAME:CDT
DTSTART:20180311T080000
END:DAYLIGHT
BEGIN:STANDARD
TZOFFSETFROM:-0500
TZOFFSETTO:-0600
TZNAME:CST
DTSTART:20181104T070000
END:STANDARD
BEGIN:DAYLIGHT
TZOFFSETFROM:-0600
TZOFFSETTO:-0500
TZNAME:CDT
DTSTART:20190310T080000
END:DAYLIGHT
BEGIN:STANDARD
TZOFFSETFROM:-0500
TZOFFSETTO:-0600
TZNAME:CST
DTSTART:20191103T070000
END:STANDARD
END:VTIMEZONE
BEGIN:VEVENT
DTSTART;TZID=America/Chicago:20180217T083000
DTEND;TZID=America/Chicago:20180217T100000
DTSTAMP:20260424T134022
CREATED:20180206T032829Z
LAST-MODIFIED:20180206T032829Z
UID:1234-1518856200-1518861600@firstcenturykc.com
SUMMARY:Men's Breakfast
DESCRIPTION:We’d love for all the men to join us for breakfast on Saturday\, February 17th @ 8:30am. We’ll eat at Cracker Barrel and will have a great time of connecting (and of course\, eating!). Bring a buddy or two and have a great time with the 1C men!
URL:http://firstcenturykc.com/event/mens-breakfast/
LOCATION:Cracker Barrel\, 7920 NW Tiffany Springs Parkway\, Kansas City\, MO\, United States
CATEGORIES:Small Groups
ATTACH;FMTTYPE=image/png:http://firstcenturykc.com/wp-content/uploads/2018/02/Slide8.png
ORGANIZER;CN="Stephen Wilhoite":MAILTO:stephen@firstcenturykc.com
END:VEVENT
BEGIN:VEVENT
DTSTART;TZID=America/Chicago:20170911T180000
DTEND;TZID=America/Chicago:20170911T203000
DTSTAMP:20260424T134022
CREATED:20170710T184427Z
LAST-MODIFIED:20170710T184427Z
UID:1060-1505152800-1505161800@firstcenturykc.com
SUMMARY:Ladies Bunco
DESCRIPTION:Ladies\, you’re invited to connect with other women & have a great time playing Bunco! \nFor more info\, please see Kimberly Wilhoite or call/text her @ 816-933-7760
URL:http://firstcenturykc.com/event/ladies-bunco-2/
LOCATION:MO
CATEGORIES:Small Groups
ATTACH;FMTTYPE=image/png:http://firstcenturykc.com/wp-content/uploads/2017/07/Ladies-Night-Bunco-Website-announcement.png
ORGANIZER;CN="Kimberly Wilhoite":MAILTO:kimberly_wilhoite@yahoo.com
END:VEVENT
BEGIN:VEVENT
DTSTART;TZID=America/Chicago:20170814T180000
DTEND;TZID=America/Chicago:20170814T203000
DTSTAMP:20260424T134022
CREATED:20170710T184321Z
LAST-MODIFIED:20170710T184321Z
UID:1057-1502733600-1502742600@firstcenturykc.com
SUMMARY:Ladies Bunco
DESCRIPTION:Ladies\, you’re invited to connect with other women & have a great time playing Bunco! \nFor more info\, please see Kimberly Wilhoite or call/text her @ 816-933-7760
URL:http://firstcenturykc.com/event/ladies-bunco/
LOCATION:MO
CATEGORIES:Small Groups
ATTACH;FMTTYPE=image/png:http://firstcenturykc.com/wp-content/uploads/2017/07/Ladies-Night-Bunco-Website-announcement.png
ORGANIZER;CN="Kimberly Wilhoite":MAILTO:kimberly_wilhoite@yahoo.com
END:VEVENT
BEGIN:VEVENT
DTSTART;TZID=America/Chicago:20170710T180000
DTEND;TZID=America/Chicago:20170710T200000
DTSTAMP:20260424T134022
CREATED:20170622T150643Z
LAST-MODIFIED:20170622T150643Z
UID:1049-1499709600-1499716800@firstcenturykc.com
SUMMARY:Ladies Bunco Night
DESCRIPTION:Ladies – you’re invited to join the first-ever Bunco Night! It will be a night of fun & connection! We hope you can make it out! \nFor more information\, please email us @ stephen@firstcenturykc.com
URL:http://firstcenturykc.com/event/ladies-bunco-night/
LOCATION:MO
CATEGORIES:Small Groups
ATTACH;FMTTYPE=image/png:http://firstcenturykc.com/wp-content/uploads/2017/06/Slide9.png
ORGANIZER;CN="Kimberly Wilhoite":MAILTO:kimberly_wilhoite@yahoo.com
END:VEVENT
BEGIN:VEVENT
DTSTART;TZID=America/Chicago:20170617T093000
DTEND;TZID=America/Chicago:20170617T120000
DTSTAMP:20260424T134022
CREATED:20170522T155804Z
LAST-MODIFIED:20170522T155804Z
UID:1042-1497691800-1497700800@firstcenturykc.com
SUMMARY:Guys Day Out @ Chicken N Pickle
DESCRIPTION:Hey guys – join us for a fun day @ Chicken N Pickle in North Kansas City! We’ll play some pickleball (sort of like tennis\, only on a smaller court) and yard games. Then stick around for lunch there\, too. The cost is $13 plus the cost of your lunch. Please see Pastor Stephen by June 1st to reserve your spot.
URL:http://firstcenturykc.com/event/guys-day-out-chicken-n-pickle/
LOCATION:MO
CATEGORIES:Small Groups
ATTACH;FMTTYPE=image/png:http://firstcenturykc.com/wp-content/uploads/2017/05/Slide13.png
END:VEVENT
BEGIN:VEVENT
DTSTART;TZID=America/Chicago:20161201T183000
DTEND;TZID=America/Chicago:20161201T201500
DTSTAMP:20260424T134022
CREATED:20160914T181215Z
LAST-MODIFIED:20160914T181215Z
UID:890-1480617000-1480623300@firstcenturykc.com
SUMMARY:"The God Anthology" Adult Small Group
DESCRIPTION:Join us as we continue our video-driven small group study called\, “The God Anthology”. Each week we take a look at a characteristic of God. Each video is about 15 minutes in length and will be followed by a time of group discussion & dialogue. Light refreshments will be served\, and childcare for kids 3mo-8yrs is provided on site.
URL:http://firstcenturykc.com/event/the-god-anthology-adult-small-group-6/
LOCATION:Parkville YMCA\, 8875 Clark Ave\, Parkville\, MO\, 64152\, United States
CATEGORIES:Small Groups
ATTACH;FMTTYPE=image/jpeg:http://firstcenturykc.com/wp-content/uploads/2016/09/Slide5.jpg
ORGANIZER;CN="Stephen Wilhoite":MAILTO:stephen@firstcenturykc.com
END:VEVENT
BEGIN:VEVENT
DTSTART;TZID=America/Chicago:20161117T183000
DTEND;TZID=America/Chicago:20161117T201500
DTSTAMP:20260424T134022
CREATED:20160914T181052Z
LAST-MODIFIED:20160914T181052Z
UID:889-1479407400-1479413700@firstcenturykc.com
SUMMARY:"The God Anthology" Adult Small Group
DESCRIPTION:Join us as we continue our video-driven small group study called\, “The God Anthology”. Each week we take a look at a characteristic of God. Each video is about 15 minutes in length and will be followed by a time of group discussion & dialogue. Light refreshments will be served\, and childcare for kids 3mo-8yrs is provided on site.
URL:http://firstcenturykc.com/event/the-god-anthology-adult-small-group-5/
LOCATION:Parkville YMCA\, 8875 Clark Ave\, Parkville\, MO\, 64152\, United States
CATEGORIES:Small Groups
ATTACH;FMTTYPE=image/jpeg:http://firstcenturykc.com/wp-content/uploads/2016/09/Slide5.jpg
ORGANIZER;CN="Stephen Wilhoite":MAILTO:stephen@firstcenturykc.com
END:VEVENT
BEGIN:VEVENT
DTSTART;TZID=America/Chicago:20161027T183000
DTEND;TZID=America/Chicago:20161027T201500
DTSTAMP:20260424T134022
CREATED:20160914T180938Z
LAST-MODIFIED:20160914T180938Z
UID:888-1477593000-1477599300@firstcenturykc.com
SUMMARY:"The God Anthology" Adult Small Group
DESCRIPTION:Join us as we continue our video-driven small group study called\, “The God Anthology”. Each week we take a look at a characteristic of God. Each video is about 15 minutes in length and will be followed by a time of group discussion & dialogue. Light refreshments will be served\, and childcare for kids 3mo-8yrs is provided on site.
URL:http://firstcenturykc.com/event/the-god-anthology-adult-small-group-4/
LOCATION:Parkville YMCA\, 8875 Clark Ave\, Parkville\, MO\, 64152\, United States
CATEGORIES:Small Groups
ATTACH;FMTTYPE=image/jpeg:http://firstcenturykc.com/wp-content/uploads/2016/09/Slide5.jpg
ORGANIZER;CN="Stephen Wilhoite":MAILTO:stephen@firstcenturykc.com
END:VEVENT
BEGIN:VEVENT
DTSTART;TZID=America/Chicago:20161013T183000
DTEND;TZID=America/Chicago:20161013T201500
DTSTAMP:20260424T134022
CREATED:20160914T180827Z
LAST-MODIFIED:20160914T180827Z
UID:887-1476383400-1476389700@firstcenturykc.com
SUMMARY:"The God Anthology" Adult Small Group
DESCRIPTION:Join us as we continue our video-driven small group study called\, “The God Anthology”. Each week we take a look at a characteristic of God. Each video is about 15 minutes in length and will be followed by a time of group discussion & dialogue. Light refreshments will be served\, and childcare for kids 3mo-8yrs is provided on site.
URL:http://firstcenturykc.com/event/the-god-anthology-adult-small-group-3/
LOCATION:Parkville YMCA\, 8875 Clark Ave\, Parkville\, MO\, 64152\, United States
CATEGORIES:Small Groups
ATTACH;FMTTYPE=image/jpeg:http://firstcenturykc.com/wp-content/uploads/2016/09/Slide5.jpg
ORGANIZER;CN="Stephen Wilhoite":MAILTO:stephen@firstcenturykc.com
END:VEVENT
BEGIN:VEVENT
DTSTART;TZID=America/Chicago:20160929T183000
DTEND;TZID=America/Chicago:20160929T201500
DTSTAMP:20260424T134022
CREATED:20160914T180702Z
LAST-MODIFIED:20160914T180702Z
UID:886-1475173800-1475180100@firstcenturykc.com
SUMMARY:"The God Anthology" Adult Small Group
DESCRIPTION:Join us as we continue our video-driven small group study called\, “The God Anthology”. Each week we take a look at a characteristic of God. Each video is about 15 minutes in length and will be followed by a time of group discussion & dialogue. Light refreshments will be served\, and childcare for kids 3mo-8yrs is provided on site.
URL:http://firstcenturykc.com/event/the-god-anthology-adult-small-group-2/
LOCATION:Parkville YMCA\, 8875 Clark Ave\, Parkville\, MO\, 64152\, United States
CATEGORIES:Small Groups
ATTACH;FMTTYPE=image/jpeg:http://firstcenturykc.com/wp-content/uploads/2016/09/Slide5.jpg
ORGANIZER;CN="Stephen Wilhoite":MAILTO:stephen@firstcenturykc.com
END:VEVENT
BEGIN:VEVENT
DTSTART;TZID=America/Chicago:20160915T183000
DTEND;TZID=America/Chicago:20160915T201500
DTSTAMP:20260424T134022
CREATED:20160914T180453Z
LAST-MODIFIED:20160914T180453Z
UID:883-1473964200-1473970500@firstcenturykc.com
SUMMARY:"The God Anthology" Adult Small Group
DESCRIPTION:Join us as we kick-off a brand new video-driven study called\, “The God Anthology”. Each week we take a look at a characteristic of God. Each video is about 15 minutes in length and will be followed by a time of group discussion & dialogue. Light refreshments will be served\, and childcare for kids 3mo-8yrs is provided on site.
URL:http://firstcenturykc.com/event/the-god-anthology-adult-small-group/
LOCATION:Parkville YMCA\, 8875 Clark Ave\, Parkville\, MO\, 64152\, United States
CATEGORIES:Small Groups
ATTACH;FMTTYPE=image/jpeg:http://firstcenturykc.com/wp-content/uploads/2016/09/Slide5.jpg
ORGANIZER;CN="Stephen Wilhoite":MAILTO:stephen@firstcenturykc.com
END:VEVENT
BEGIN:VEVENT
DTSTART;TZID=America/Chicago:20150624T190000
DTEND;TZID=America/Chicago:20150624T213000
DTSTAMP:20260424T134022
CREATED:20150619T024606Z
LAST-MODIFIED:20150619T024606Z
UID:519-1435172400-1435181400@firstcenturykc.com
SUMMARY:Men's Small Group
DESCRIPTION:Attention all men! Join us for a great time of hanging out\, sharing stories\, and talking about life together with just the guys. The fun begins @ 7PM. Locations will vary\, so stay tuned or contact Stephen Wilhoite @ (325) 716-8019 for all the info.
URL:http://firstcenturykc.com/event/mens-small-group/
LOCATION:MO
CATEGORIES:Small Groups
ATTACH;FMTTYPE=image/png:http://firstcenturykc.com/wp-content/uploads/2015/05/Mens-Small-Group.png
END:VEVENT
BEGIN:VEVENT
DTSTART;TZID=America/Chicago:20140604T190000
DTEND;TZID=America/Chicago:20140604T210000
DTSTAMP:20260424T134022
CREATED:20140501T084240Z
LAST-MODIFIED:20140501T085152Z
UID:61-1401908400-1401915600@firstcenturykc.com
SUMMARY:Ladies Bible Study
DESCRIPTION:Lesson 13 (Last Lesson)
URL:http://firstcenturykc.com/event/ladies-bible-study-5/
LOCATION:The Wilhoite Home\, 8165 N. Lawn Ave.\, Kansas City\, MO\, 64119\, United States
CATEGORIES:Small Groups
END:VEVENT
BEGIN:VEVENT
DTSTART;TZID=America/Chicago:20140528T190000
DTEND;TZID=America/Chicago:20140528T210000
DTSTAMP:20260424T134022
CREATED:20140501T084021Z
LAST-MODIFIED:20140501T085118Z
UID:58-1401303600-1401310800@firstcenturykc.com
SUMMARY:Ladies Bible Study
DESCRIPTION:Lesson 12
URL:http://firstcenturykc.com/event/ladies-bible-study-4/
LOCATION:The Wilhoite Home\, 8165 N. Lawn Ave.\, Kansas City\, MO\, 64119\, United States
CATEGORIES:Small Groups
END:VEVENT
BEGIN:VEVENT
DTSTART;TZID=America/Chicago:20140521T190000
DTEND;TZID=America/Chicago:20140521T210000
DTSTAMP:20260424T134022
CREATED:20140501T083708Z
LAST-MODIFIED:20140501T085125Z
UID:55-1400698800-1400706000@firstcenturykc.com
SUMMARY:Ladies Bible Study
DESCRIPTION:Lesson 11
URL:http://firstcenturykc.com/event/ladies-bible-study-3/
LOCATION:The Wilhoite Home\, 8165 N. Lawn Ave.\, Kansas City\, MO\, 64119\, United States
CATEGORIES:Small Groups
END:VEVENT
BEGIN:VEVENT
DTSTART;TZID=America/Chicago:20140514T190000
DTEND;TZID=America/Chicago:20140514T210000
DTSTAMP:20260424T134022
CREATED:20140501T083446Z
LAST-MODIFIED:20140501T085132Z
UID:53-1400094000-1400101200@firstcenturykc.com
SUMMARY:Ladies Bible Study
DESCRIPTION:Lesson 10
URL:http://firstcenturykc.com/event/ladies-bible-study-2/
LOCATION:The Wilhoite Home\, 8165 N. Lawn Ave.\, Kansas City\, MO\, 64119\, United States
CATEGORIES:Small Groups
END:VEVENT
BEGIN:VEVENT
DTSTART;TZID=America/Chicago:20140507T190000
DTEND;TZID=America/Chicago:20140507T210000
DTSTAMP:20260424T134022
CREATED:20140501T083345Z
LAST-MODIFIED:20140501T085143Z
UID:51-1399489200-1399496400@firstcenturykc.com
SUMMARY:Ladies Bible Study
DESCRIPTION:Lesson 9
URL:http://firstcenturykc.com/event/ladies-bible-study/
LOCATION:The Wilhoite Home\, 8165 N. Lawn Ave.\, Kansas City\, MO\, 64119\, United States
CATEGORIES:Small Groups
END:VEVENT
END:VCALENDAR