BEGIN:VCALENDAR
VERSION:2.0
PRODID:-//First Century Church - ECPv6.15.20//NONSGML v1.0//EN
CALSCALE:GREGORIAN
METHOD:PUBLISH
X-WR-CALNAME:First Century Church
X-ORIGINAL-URL:http://firstcenturykc.com
X-WR-CALDESC:Events for First Century Church
REFRESH-INTERVAL;VALUE=DURATION:PT1H
X-Robots-Tag:noindex
X-PUBLISHED-TTL:PT1H
BEGIN:VTIMEZONE
TZID:America/Chicago
BEGIN:DAYLIGHT
TZOFFSETFROM:-0600
TZOFFSETTO:-0500
TZNAME:CDT
DTSTART:20130310T080000
END:DAYLIGHT
BEGIN:STANDARD
TZOFFSETFROM:-0500
TZOFFSETTO:-0600
TZNAME:CST
DTSTART:20131103T070000
END:STANDARD
BEGIN:DAYLIGHT
TZOFFSETFROM:-0600
TZOFFSETTO:-0500
TZNAME:CDT
DTSTART:20140309T080000
END:DAYLIGHT
BEGIN:STANDARD
TZOFFSETFROM:-0500
TZOFFSETTO:-0600
TZNAME:CST
DTSTART:20141102T070000
END:STANDARD
BEGIN:DAYLIGHT
TZOFFSETFROM:-0600
TZOFFSETTO:-0500
TZNAME:CDT
DTSTART:20150308T080000
END:DAYLIGHT
BEGIN:STANDARD
TZOFFSETFROM:-0500
TZOFFSETTO:-0600
TZNAME:CST
DTSTART:20151101T070000
END:STANDARD
END:VTIMEZONE
BEGIN:VEVENT
DTSTART;TZID=America/Chicago:20140525T100000
DTEND;TZID=America/Chicago:20140525T120000
DTSTAMP:20260424T183901
CREATED:20140501T083930Z
LAST-MODIFIED:20140501T085343Z
UID:56-1401012000-1401019200@firstcenturykc.com
SUMMARY:Sneak Peek - Church of the Four-Corners
DESCRIPTION:Church of the Four Corners is a church plant who we hope to look a lot like when we get going!  You don’t want to miss this Sneak Peek!!
URL:http://firstcenturykc.com/event/sneek-peek-church-of-the-four-corners/
LOCATION:Church of the Four-Corners\, 3301 S Noland Rd\, Independence\, MO\, 64055\, United States
CATEGORIES:Sneak Peeks
END:VEVENT
BEGIN:VEVENT
DTSTART;TZID=America/Chicago:20140511T100000
DTEND;TZID=America/Chicago:20140511T120000
DTSTAMP:20260424T183901
CREATED:20140501T082917Z
LAST-MODIFIED:20140501T085356Z
UID:48-1399802400-1399809600@firstcenturykc.com
SUMMARY:Sneak Peek - Tiffany Fellowship
DESCRIPTION:Join us at Tiffany Fellowship if you are free.
URL:http://firstcenturykc.com/event/sneak-peek-tiffany-fellowship/
LOCATION:Tiffany Fellowship Church\, 7315 NW Barry Rd\, Kansas City\, MO\, 64153\, United States
CATEGORIES:Sneak Peeks
END:VEVENT
END:VCALENDAR