BEGIN:VCALENDAR
VERSION:2.0
PRODID:-//First Century Church - ECPv6.15.20//NONSGML v1.0//EN
CALSCALE:GREGORIAN
METHOD:PUBLISH
X-WR-CALNAME:First Century Church
X-ORIGINAL-URL:http://firstcenturykc.com
X-WR-CALDESC:Events for First Century Church
REFRESH-INTERVAL;VALUE=DURATION:PT1H
X-Robots-Tag:noindex
X-PUBLISHED-TTL:PT1H
BEGIN:VTIMEZONE
TZID:America/Chicago
BEGIN:DAYLIGHT
TZOFFSETFROM:-0600
TZOFFSETTO:-0500
TZNAME:CDT
DTSTART:20130310T080000
END:DAYLIGHT
BEGIN:STANDARD
TZOFFSETFROM:-0500
TZOFFSETTO:-0600
TZNAME:CST
DTSTART:20131103T070000
END:STANDARD
BEGIN:DAYLIGHT
TZOFFSETFROM:-0600
TZOFFSETTO:-0500
TZNAME:CDT
DTSTART:20140309T080000
END:DAYLIGHT
BEGIN:STANDARD
TZOFFSETFROM:-0500
TZOFFSETTO:-0600
TZNAME:CST
DTSTART:20141102T070000
END:STANDARD
BEGIN:DAYLIGHT
TZOFFSETFROM:-0600
TZOFFSETTO:-0500
TZNAME:CDT
DTSTART:20150308T080000
END:DAYLIGHT
BEGIN:STANDARD
TZOFFSETFROM:-0500
TZOFFSETTO:-0600
TZNAME:CST
DTSTART:20151101T070000
END:STANDARD
END:VTIMEZONE
BEGIN:VEVENT
DTSTART;TZID=America/Chicago:20140608T100000
DTEND;TZID=America/Chicago:20140608T120000
DTSTAMP:20260424T183923
CREATED:20140501T085553Z
LAST-MODIFIED:20140501T085553Z
UID:62-1402221600-1402228800@firstcenturykc.com
SUMMARY:Team Meeting
DESCRIPTION:
URL:http://firstcenturykc.com/event/team-meeting-2/
LOCATION:The Wilhoite Home\, 8165 N. Lawn Ave.\, Kansas City\, MO\, 64119\, United States
CATEGORIES:Team Meetings
END:VEVENT
BEGIN:VEVENT
DTSTART;TZID=America/Chicago:20140518T100000
DTEND;TZID=America/Chicago:20140518T120000
DTSTAMP:20260424T183923
CREATED:20140501T083622Z
LAST-MODIFIED:20140501T085418Z
UID:54-1400407200-1400414400@firstcenturykc.com
SUMMARY:Team Meeting
DESCRIPTION:This is a great time to invite people you know who are interested in being a part of the team.
URL:http://firstcenturykc.com/event/team-meeting/
LOCATION:The Wilhoite Home\, 8165 N. Lawn Ave.\, Kansas City\, MO\, 64119\, United States
CATEGORIES:Team Meetings
END:VEVENT
END:VCALENDAR