BEGIN:VCALENDAR
VERSION:2.0
PRODID:-//First Century Church - ECPv6.15.20//NONSGML v1.0//EN
CALSCALE:GREGORIAN
METHOD:PUBLISH
X-WR-CALNAME:First Century Church
X-ORIGINAL-URL:http://firstcenturykc.com
X-WR-CALDESC:Events for First Century Church
REFRESH-INTERVAL;VALUE=DURATION:PT1H
X-Robots-Tag:noindex
X-PUBLISHED-TTL:PT1H
BEGIN:VTIMEZONE
TZID:America/Chicago
BEGIN:DAYLIGHT
TZOFFSETFROM:-0600
TZOFFSETTO:-0500
TZNAME:CDT
DTSTART:20200308T080000
END:DAYLIGHT
BEGIN:STANDARD
TZOFFSETFROM:-0500
TZOFFSETTO:-0600
TZNAME:CST
DTSTART:20201101T070000
END:STANDARD
BEGIN:DAYLIGHT
TZOFFSETFROM:-0600
TZOFFSETTO:-0500
TZNAME:CDT
DTSTART:20210314T080000
END:DAYLIGHT
BEGIN:STANDARD
TZOFFSETFROM:-0500
TZOFFSETTO:-0600
TZNAME:CST
DTSTART:20211107T070000
END:STANDARD
BEGIN:DAYLIGHT
TZOFFSETFROM:-0600
TZOFFSETTO:-0500
TZNAME:CDT
DTSTART:20220313T080000
END:DAYLIGHT
BEGIN:STANDARD
TZOFFSETFROM:-0500
TZOFFSETTO:-0600
TZNAME:CST
DTSTART:20221106T070000
END:STANDARD
END:VTIMEZONE
BEGIN:VEVENT
DTSTART;TZID=America/Chicago:20211013T190000
DTEND;TZID=America/Chicago:20211013T200000
DTSTAMP:20260424T142719
CREATED:20210807T154510Z
LAST-MODIFIED:20210918T012634Z
UID:2340-1634151600-1634155200@firstcenturykc.com
SUMMARY:"The Pursuit of God" - Week 5
DESCRIPTION:Join us for this 10-week study of the book “The Pursuit of God” by A.W. Tozer.\nThis Christian classic will help us grow in our faith together through powerful insights and helpful discussions.
URL:http://firstcenturykc.com/event/the-pursuit-of-god-week-6/
CATEGORIES:Wednesday Night Study
ATTACH;FMTTYPE=image/jpeg:http://firstcenturykc.com/wp-content/uploads/2021/08/Pursuit-of-God-title-SQUARE-FINAL.jpg
END:VEVENT
BEGIN:VEVENT
DTSTART;TZID=America/Chicago:20211006T190000
DTEND;TZID=America/Chicago:20211006T200000
DTSTAMP:20260424T142719
CREATED:20210807T154423Z
LAST-MODIFIED:20210918T012657Z
UID:2338-1633546800-1633550400@firstcenturykc.com
SUMMARY:"The Pursuit of God" - Week 4
DESCRIPTION:Join us for this 10-week study of the book “The Pursuit of God” by A.W. Tozer.\nThis Christian classic will help us grow in our faith together through powerful insights and helpful discussions.
URL:http://firstcenturykc.com/event/the-pursuit-of-god-week-5/
CATEGORIES:Wednesday Night Study
ATTACH;FMTTYPE=image/jpeg:http://firstcenturykc.com/wp-content/uploads/2021/08/Pursuit-of-God-title-SQUARE-FINAL.jpg
END:VEVENT
BEGIN:VEVENT
DTSTART;TZID=America/Chicago:20210922T190000
DTEND;TZID=America/Chicago:20210922T200000
DTSTAMP:20260424T142719
CREATED:20210807T154142Z
LAST-MODIFIED:20210807T154142Z
UID:2334-1632337200-1632340800@firstcenturykc.com
SUMMARY:"The Pursuit of God" - Week 3
DESCRIPTION:Join us for this 10-week study of the book “The Pursuit of God” by A.W. Tozer.\nThis Christian classic will help us grow in our faith together through powerful insights and helpful discussions.
URL:http://firstcenturykc.com/event/the-pursuit-of-god-week-3/
CATEGORIES:Wednesday Night Study
ATTACH;FMTTYPE=image/jpeg:http://firstcenturykc.com/wp-content/uploads/2021/08/Pursuit-of-God-title-SQUARE-FINAL.jpg
END:VEVENT
BEGIN:VEVENT
DTSTART;TZID=America/Chicago:20210915T190000
DTEND;TZID=America/Chicago:20210915T200000
DTSTAMP:20260424T142719
CREATED:20210807T154042Z
LAST-MODIFIED:20210807T154042Z
UID:2331-1631732400-1631736000@firstcenturykc.com
SUMMARY:"The Pursuit of God" - Week 2
DESCRIPTION:Join us for this 10-week study of the book “The Pursuit of God” by A.W. Tozer.\nThis Christian classic will help us grow in our faith together through powerful insights and helpful discussions.
URL:http://firstcenturykc.com/event/the-pursuit-of-god-week-2/
CATEGORIES:Wednesday Night Study
ATTACH;FMTTYPE=image/jpeg:http://firstcenturykc.com/wp-content/uploads/2021/08/Pursuit-of-God-title-SQUARE-FINAL.jpg
END:VEVENT
BEGIN:VEVENT
DTSTART;TZID=America/Chicago:20210908T190000
DTEND;TZID=America/Chicago:20210908T200000
DTSTAMP:20260424T142719
CREATED:20210807T153752Z
LAST-MODIFIED:20210807T153752Z
UID:2328-1631127600-1631131200@firstcenturykc.com
SUMMARY:"The Pursuit of God" - Week 1
DESCRIPTION:Join us for this 10-week study of the book “The Pursuit of God” by A.W. Tozer.\nThis Christian classic will help us grow in our faith together through powerful insights and helpful discussions.
URL:http://firstcenturykc.com/event/the-pursuit-of-god-week-1/
CATEGORIES:Wednesday Night Study
ATTACH;FMTTYPE=image/jpeg:http://firstcenturykc.com/wp-content/uploads/2021/08/Pursuit-of-God-title-SQUARE-FINAL.jpg
END:VEVENT
END:VCALENDAR