BEGIN:VCALENDAR
VERSION:2.0
PRODID:-//First Century Church - ECPv6.15.20//NONSGML v1.0//EN
CALSCALE:GREGORIAN
METHOD:PUBLISH
X-WR-CALNAME:First Century Church
X-ORIGINAL-URL:http://firstcenturykc.com
X-WR-CALDESC:Events for First Century Church
REFRESH-INTERVAL;VALUE=DURATION:PT1H
X-Robots-Tag:noindex
X-PUBLISHED-TTL:PT1H
BEGIN:VTIMEZONE
TZID:America/Chicago
BEGIN:DAYLIGHT
TZOFFSETFROM:-0600
TZOFFSETTO:-0500
TZNAME:CDT
DTSTART:20220313T080000
END:DAYLIGHT
BEGIN:STANDARD
TZOFFSETFROM:-0500
TZOFFSETTO:-0600
TZNAME:CST
DTSTART:20221106T070000
END:STANDARD
BEGIN:DAYLIGHT
TZOFFSETFROM:-0600
TZOFFSETTO:-0500
TZNAME:CDT
DTSTART:20230312T080000
END:DAYLIGHT
BEGIN:STANDARD
TZOFFSETFROM:-0500
TZOFFSETTO:-0600
TZNAME:CST
DTSTART:20231105T070000
END:STANDARD
BEGIN:DAYLIGHT
TZOFFSETFROM:-0600
TZOFFSETTO:-0500
TZNAME:CDT
DTSTART:20240310T080000
END:DAYLIGHT
BEGIN:STANDARD
TZOFFSETFROM:-0500
TZOFFSETTO:-0600
TZNAME:CST
DTSTART:20241103T070000
END:STANDARD
BEGIN:DAYLIGHT
TZOFFSETFROM:-0600
TZOFFSETTO:-0500
TZNAME:CDT
DTSTART:20250309T080000
END:DAYLIGHT
BEGIN:STANDARD
TZOFFSETFROM:-0500
TZOFFSETTO:-0600
TZNAME:CST
DTSTART:20251102T070000
END:STANDARD
BEGIN:DAYLIGHT
TZOFFSETFROM:-0600
TZOFFSETTO:-0500
TZNAME:CDT
DTSTART:20260308T080000
END:DAYLIGHT
BEGIN:STANDARD
TZOFFSETFROM:-0500
TZOFFSETTO:-0600
TZNAME:CST
DTSTART:20261101T070000
END:STANDARD
BEGIN:DAYLIGHT
TZOFFSETFROM:-0600
TZOFFSETTO:-0500
TZNAME:CDT
DTSTART:20270314T080000
END:DAYLIGHT
BEGIN:STANDARD
TZOFFSETFROM:-0500
TZOFFSETTO:-0600
TZNAME:CST
DTSTART:20271107T070000
END:STANDARD
END:VTIMEZONE
BEGIN:VEVENT
DTSTART;TZID=America/Chicago:20260130T180000
DTEND;TZID=America/Chicago:20260130T200000
DTSTAMP:20260423T233247
CREATED:20260115T164551Z
LAST-MODIFIED:20260115T164551Z
UID:3752-1769796000-1769803200@firstcenturykc.com
SUMMARY:Ladies Fellowship Night
DESCRIPTION:Ladies\, you’re invited to a fun night of food\, fellowship\, crafts\, and more! Don’t come alone\, but bring a friend with you! \n  \n*The event will be downstairs\, so please use the rear entrance
URL:http://firstcenturykc.com/event/ladies-fellowship-night/
LOCATION:MO
CATEGORIES:Women's Ministry
ATTACH;FMTTYPE=image/jpeg:http://firstcenturykc.com/wp-content/uploads/2026/01/Ladies-Fellowship-Night-1.30.26-WIDE.jpg
END:VEVENT
BEGIN:VEVENT
DTSTART;TZID=America/Chicago:20250725T183000
DTEND;TZID=America/Chicago:20250725T203000
DTSTAMP:20260423T233247
CREATED:20250710T214625Z
LAST-MODIFIED:20250710T214625Z
UID:3606-1753468200-1753475400@firstcenturykc.com
SUMMARY:Women's Pamper Night
DESCRIPTION:
URL:http://firstcenturykc.com/event/womens-pamper-night/
LOCATION:First Century Church\, 7137 NW Lingley Drive\, Parkville\, MO\, 64152\, United States
CATEGORIES:Women's Ministry
ATTACH;FMTTYPE=image/png:http://firstcenturykc.com/wp-content/uploads/2025/07/Womens-Pamper-Night-July-2025-SQUARE.png
END:VEVENT
BEGIN:VEVENT
DTSTART;TZID=America/Chicago:20250405T083000
DTEND;TZID=America/Chicago:20250405T113000
DTSTAMP:20260423T233247
CREATED:20250218T221903Z
LAST-MODIFIED:20250220T201749Z
UID:3495-1743841800-1743852600@firstcenturykc.com
SUMMARY:Overcomer: 2025 Women's Conference
DESCRIPTION:Ladies\, you’re invited to a special\, encouraging\, & uplifting time at our 2025 Women’s Conference: “Overcomer”! \nJoin other women\, moms\, aunts\, grandmas\, & friends at this first-ever Saturday morning edition of the conference. There will be a free breakfast\, free gifts\, special activities\, and a guest speaker to remind you that in Christ you are an overcomer! \nYou can sign up in-person at a First Century gathering or email Pastor Kim to RSVP: kimberly_wilhoite@yahoo.com \n(There is a suggested donation of $15/attendee to help cover the cost of the event\, but if you’re unable to do that at this time\, don’t let that keep you from attending!)
URL:http://firstcenturykc.com/event/overcomer-2025-womens-conference/
LOCATION:MO
CATEGORIES:Women's Ministry
ATTACH;FMTTYPE=image/jpeg:http://firstcenturykc.com/wp-content/uploads/2025/02/Womens-Conference-2025-title-w-info-SQUARE-FINAL-1.jpg
END:VEVENT
BEGIN:VEVENT
DTSTART;TZID=America/Chicago:20240223T180000
DTEND;TZID=America/Chicago:20240223T210000
DTSTAMP:20260423T233247
CREATED:20240125T182618Z
LAST-MODIFIED:20240125T182618Z
UID:3144-1708711200-1708722000@firstcenturykc.com
SUMMARY:Blessed Assurance: A 1C Women's Event
DESCRIPTION:We are so excited about an all-new women’s event\, “Blessed Assurance”!\nWhether you attended last year’s event or not\, you will be in for an amazing night! \nThe evening will begin with a time of connection followed by dinner. There will be encouraging speakers and thought-provoking discussions that will reinforce the goodness and greatness of God in your life. There is a suggested donation of $10\, but don’t let that keep you from coming for a great time! Plus\, you’re encouraged to invite your girlfriends to make the night even better! \nPlease email pastorstw@gmail.com with any questions or for more information.
URL:http://firstcenturykc.com/event/blessed-assurance-a-1c-womens-event/
LOCATION:MO
CATEGORIES:Women's Ministry
ATTACH;FMTTYPE=image/jpeg:http://firstcenturykc.com/wp-content/uploads/2024/01/1C-Womens-Event-2024-Blessed-Assurance-SQUARE-2-FINAL.jpg
END:VEVENT
BEGIN:VEVENT
DTSTART;TZID=America/Chicago:20231209T170000
DTEND;TZID=America/Chicago:20231209T190000
DTSTAMP:20260423T233247
CREATED:20231116T213614Z
LAST-MODIFIED:20231209T013003Z
UID:3077-1702141200-1702148400@firstcenturykc.com
SUMMARY:1CLadies Holiday Bingo Night
DESCRIPTION:Ladies\, come for a fun & festive holiday night! \nAll you need to bring is yourself\, a friend\, an appetizer to share\, and a gift ($5 and under) for Bingo. This is sure to be a great night with the girls!
URL:http://firstcenturykc.com/event/1cladies-bingo-night-holiday-sock-exchange/
LOCATION:MO
CATEGORIES:Women's Ministry
ATTACH;FMTTYPE=image/jpeg:http://firstcenturykc.com/wp-content/uploads/2023/11/Ladies-Christmas-Bingo-SQUARE-FINAL.jpg
END:VEVENT
BEGIN:VEVENT
DTSTART;TZID=America/Chicago:20231014T163000
DTEND;TZID=America/Chicago:20231014T190000
DTSTAMP:20260423T233247
CREATED:20231005T234921Z
LAST-MODIFIED:20231005T234921Z
UID:3052-1697301000-1697310000@firstcenturykc.com
SUMMARY:1CLadies Axe-Throwing
DESCRIPTION:Ladies – you’re invited to a fun night of axe-throwing at Woodchux in Liberty with dinner to follow! \nEstimated cost: $25/person for axe-throwing + dinner. \nAddress: 888 S State Route 291Liberty\, MO 64068 \nPlease see Anne Holmes for more info.
URL:http://firstcenturykc.com/event/1cladies-axe-throwing/
LOCATION:MO
CATEGORIES:Women's Ministry
ATTACH;FMTTYPE=image/jpeg:http://firstcenturykc.com/wp-content/uploads/2023/10/Ladies-Axe-Throwing-2023-SQUARE-FINAL.jpg
END:VEVENT
BEGIN:VEVENT
DTSTART;TZID=America/Chicago:20230913T110000
DTEND;TZID=America/Chicago:20230913T130000
DTSTAMP:20260423T233247
CREATED:20230818T022432Z
LAST-MODIFIED:20230818T022432Z
UID:3032-1694602800-1694610000@firstcenturykc.com
SUMMARY:Ladies Lunch
DESCRIPTION:Ladies\, you’re invited to the next Ladies Lunch at Red Robin (Zona Rosa)! FMI: see Jana Frye
URL:http://firstcenturykc.com/event/ladies-lunch-2/
LOCATION:MO
CATEGORIES:Women's Ministry
ATTACH;FMTTYPE=image/jpeg:http://firstcenturykc.com/wp-content/uploads/2023/08/Ladies-Lunch-Sept-2023-SQUARE-FINAL.jpg
END:VEVENT
BEGIN:VEVENT
DTSTART;VALUE=DATE:20230908
DTEND;VALUE=DATE:20230910
DTSTAMP:20260423T233247
CREATED:20230718T030934Z
LAST-MODIFIED:20230718T030934Z
UID:2970-1694131200-1694303999@firstcenturykc.com
SUMMARY:NOMOAG Flourish Women's Conference
DESCRIPTION:The 2023 NOMOAG Flourish Women’s Conference is this weekend! The conference is hosted by Radiant Life Church in Kearney and is sure to be a wonderful time of blossoming friendships and spiritual renewal! \n  \n**Registration was required for this event
URL:http://firstcenturykc.com/event/nomoag-flourish-womens-conference/
LOCATION:MO
CATEGORIES:Women's Ministry
ATTACH;FMTTYPE=image/png:http://firstcenturykc.com/wp-content/uploads/2023/07/Flourish-Womens-Event-2023-13-Sheet-Handouts-3.png
END:VEVENT
BEGIN:VEVENT
DTSTART;TZID=America/Chicago:20230814T110000
DTEND;TZID=America/Chicago:20230814T130000
DTSTAMP:20260423T233247
CREATED:20230718T031205Z
LAST-MODIFIED:20230718T031205Z
UID:2973-1692010800-1692018000@firstcenturykc.com
SUMMARY:Ladies Lunch
DESCRIPTION:Ladies\, you are invited to lunch at Red Robin in Zona Rosa on Monday\, August 14th at 11AM for a fun time of fellowship!
URL:http://firstcenturykc.com/event/ladies-lunch/
LOCATION:MO
CATEGORIES:Women's Ministry
ATTACH;FMTTYPE=image/jpeg:http://firstcenturykc.com/wp-content/uploads/2023/07/Ladies-Lunch-Aug-2023-SQUARE-FINAL.jpg
END:VEVENT
BEGIN:VEVENT
DTSTART;TZID=America/Chicago:20230507T113000
DTEND;TZID=America/Chicago:20230507T150000
DTSTAMP:20260423T233247
CREATED:20230420T133802Z
LAST-MODIFIED:20230420T133802Z
UID:2890-1683459000-1683471600@firstcenturykc.com
SUMMARY:1C Ladies "Let's Roll" Roller Skating
DESCRIPTION:Hey Ladies\, you’re invited to lunch at Corner Cafe followed by roller skating at River Roll in Riverside!\nThis outing will be after the gathering on Sunday\, May 7th. \nThe cost is $6/skater + $4 skate rental plus the cost of lunch.
URL:http://firstcenturykc.com/event/1c-ladies-lets-roll-roller-skating/
LOCATION:MO
CATEGORIES:Women's Ministry
ATTACH;FMTTYPE=image/jpeg:http://firstcenturykc.com/wp-content/uploads/2023/04/Ladies-roller-skating-SQUARE-FINAL.jpg
END:VEVENT
END:VCALENDAR