BEGIN:VCALENDAR
VERSION:2.0
PRODID:-//First Century Church - ECPv6.15.20//NONSGML v1.0//EN
CALSCALE:GREGORIAN
METHOD:PUBLISH
X-ORIGINAL-URL:http://firstcenturykc.com
X-WR-CALDESC:Events for First Century Church
REFRESH-INTERVAL;VALUE=DURATION:PT1H
X-Robots-Tag:noindex
X-PUBLISHED-TTL:PT1H
BEGIN:VTIMEZONE
TZID:America/Chicago
BEGIN:DAYLIGHT
TZOFFSETFROM:-0600
TZOFFSETTO:-0500
TZNAME:CDT
DTSTART:20250309T080000
END:DAYLIGHT
BEGIN:STANDARD
TZOFFSETFROM:-0500
TZOFFSETTO:-0600
TZNAME:CST
DTSTART:20251102T070000
END:STANDARD
BEGIN:DAYLIGHT
TZOFFSETFROM:-0600
TZOFFSETTO:-0500
TZNAME:CDT
DTSTART:20260308T080000
END:DAYLIGHT
BEGIN:STANDARD
TZOFFSETFROM:-0500
TZOFFSETTO:-0600
TZNAME:CST
DTSTART:20261101T070000
END:STANDARD
BEGIN:DAYLIGHT
TZOFFSETFROM:-0600
TZOFFSETTO:-0500
TZNAME:CDT
DTSTART:20270314T080000
END:DAYLIGHT
BEGIN:STANDARD
TZOFFSETFROM:-0500
TZOFFSETTO:-0600
TZNAME:CST
DTSTART:20271107T070000
END:STANDARD
END:VTIMEZONE
BEGIN:VEVENT
DTSTART;TZID=America/Chicago:20260516T090000
DTEND;TZID=America/Chicago:20260516T140000
DTSTAMP:20260423T214340
CREATED:20260410T020028Z
LAST-MODIFIED:20260410T020058Z
UID:3835-1778922000-1778940000@firstcenturykc.com
SUMMARY:"Beautifully Broken" 2026 1C Women's Conference
DESCRIPTION:Ladies\, you’re invited to an encouraging\, uplifting event hosted by First Century Church where you can connect with other women in the community and connect with God. \n  \n*This event does require registration including a $25 registration fee. The cost covers registration\, a light breakfast\, drinks & snacks\, lunch\, giveaways\, and more!
URL:http://firstcenturykc.com/event/beautifully-broken-2026-1c-womens-conference/
LOCATION:First Century Church\, 7137 NW Lingley Drive\, Parkville\, MO\, 64152\, United States
CATEGORIES:Women's Ministry
ATTACH;FMTTYPE=image/jpeg:http://firstcenturykc.com/wp-content/uploads/2026/04/2026-Womens-Conference-NEW-DATE-MAIN-TITLE-WIDE.jpg
END:VEVENT
END:VCALENDAR