BEGIN:VCALENDAR
VERSION:2.0
PRODID:-//First Century Church - ECPv6.15.20//NONSGML v1.0//EN
CALSCALE:GREGORIAN
METHOD:PUBLISH
X-ORIGINAL-URL:https://firstcenturykc.com
X-WR-CALDESC:Events for First Century Church
REFRESH-INTERVAL;VALUE=DURATION:PT1H
X-Robots-Tag:noindex
X-PUBLISHED-TTL:PT1H
BEGIN:VTIMEZONE
TZID:America/Chicago
BEGIN:DAYLIGHT
TZOFFSETFROM:-0600
TZOFFSETTO:-0500
TZNAME:CDT
DTSTART:20230312T080000
END:DAYLIGHT
BEGIN:STANDARD
TZOFFSETFROM:-0500
TZOFFSETTO:-0600
TZNAME:CST
DTSTART:20231105T070000
END:STANDARD
BEGIN:DAYLIGHT
TZOFFSETFROM:-0600
TZOFFSETTO:-0500
TZNAME:CDT
DTSTART:20240310T080000
END:DAYLIGHT
BEGIN:STANDARD
TZOFFSETFROM:-0500
TZOFFSETTO:-0600
TZNAME:CST
DTSTART:20241103T070000
END:STANDARD
BEGIN:DAYLIGHT
TZOFFSETFROM:-0600
TZOFFSETTO:-0500
TZNAME:CDT
DTSTART:20250309T080000
END:DAYLIGHT
BEGIN:STANDARD
TZOFFSETFROM:-0500
TZOFFSETTO:-0600
TZNAME:CST
DTSTART:20251102T070000
END:STANDARD
END:VTIMEZONE
BEGIN:VEVENT
DTSTART;TZID=America/Chicago:20241201T100000
DTEND;TZID=America/Chicago:20241201T111500
DTSTAMP:20260424T180214
CREATED:20241126T200909Z
LAST-MODIFIED:20241126T200909Z
UID:3413-1733047200-1733051700@firstcenturykc.com
SUMMARY:5 Lessons From The Movement
DESCRIPTION:2 years. 10 series. 73 sermons. 1 book.\nOur journey through the New Testament book of Acts comes to a close. In this concluding message\, we will examine 5 main lessons we’ve learned about the movement a.k.a. the Church.
URL:https://firstcenturykc.com/event/5-lessons-from-the-movement/
LOCATION:MO
CATEGORIES:Gatherings
ATTACH;FMTTYPE=image/jpeg:https://firstcenturykc.com/wp-content/uploads/2024/11/5-Lessons-0-title.jpg
END:VEVENT
BEGIN:VEVENT
DTSTART;TZID=America/Chicago:20241208T100000
DTEND;TZID=America/Chicago:20241208T111500
DTSTAMP:20260424T180214
CREATED:20241122T223656Z
LAST-MODIFIED:20241122T223656Z
UID:3402-1733652000-1733656500@firstcenturykc.com
SUMMARY:The Songs of Christmas - Wk1
DESCRIPTION:Join us for this year’s Christmas series as each week we examine the themes behind classic Christmas carols.
URL:https://firstcenturykc.com/event/the-songs-of-christmas-wk1/
LOCATION:MO
CATEGORIES:Gatherings
ATTACH;FMTTYPE=image/jpeg:https://firstcenturykc.com/wp-content/uploads/2024/11/Songs-of-Christmas-2024-SQUARE-FINAL.jpg
END:VEVENT
BEGIN:VEVENT
DTSTART;TZID=America/Chicago:20241215T100000
DTEND;TZID=America/Chicago:20241215T111500
DTSTAMP:20260424T180214
CREATED:20241122T223744Z
LAST-MODIFIED:20241122T223744Z
UID:3405-1734256800-1734261300@firstcenturykc.com
SUMMARY:The Songs of Christmas - Wk2
DESCRIPTION:Join us for this year’s Christmas series as each week we examine the themes behind classic Christmas carols.
URL:https://firstcenturykc.com/event/the-songs-of-christmas-wk2/
LOCATION:MO
CATEGORIES:Gatherings
ATTACH;FMTTYPE=image/jpeg:https://firstcenturykc.com/wp-content/uploads/2024/11/Songs-of-Christmas-2024-SQUARE-FINAL.jpg
END:VEVENT
BEGIN:VEVENT
DTSTART;TZID=America/Chicago:20241222T100000
DTEND;TZID=America/Chicago:20241222T111500
DTSTAMP:20260424T180214
CREATED:20241122T223829Z
LAST-MODIFIED:20241122T223829Z
UID:3407-1734861600-1734866100@firstcenturykc.com
SUMMARY:The Songs of Christmas - Wk3
DESCRIPTION:Join us for this year’s Christmas series as each week we examine the themes behind classic Christmas carols.
URL:https://firstcenturykc.com/event/the-songs-of-christmas-wk3/
LOCATION:MO
CATEGORIES:Gatherings
ATTACH;FMTTYPE=image/jpeg:https://firstcenturykc.com/wp-content/uploads/2024/11/Songs-of-Christmas-2024-SQUARE-FINAL.jpg
END:VEVENT
BEGIN:VEVENT
DTSTART;TZID=America/Chicago:20241224T170000
DTEND;TZID=America/Chicago:20241224T180000
DTSTAMP:20260424T180214
CREATED:20241205T213302Z
LAST-MODIFIED:20241205T213302Z
UID:3409-1735059600-1735063200@firstcenturykc.com
SUMMARY:Christmas Eve 2024
DESCRIPTION:Join us for our annual Christmas Eve gathering on Tuesday\, December 24th at 5pm. We will sing many of your favorite Christmas carols\, hear an encouraging Christmas message\, and more! You’re invited to this holiday time for the entire family.
URL:https://firstcenturykc.com/event/christmas-eve-2024/
LOCATION:MO
CATEGORIES:Gatherings
ATTACH;FMTTYPE=image/jpeg:https://firstcenturykc.com/wp-content/uploads/2024/11/Christmas-Eve-2024-w-date-time-location-SQUARE-FINAL.jpg
END:VEVENT
BEGIN:VEVENT
DTSTART;TZID=America/Chicago:20241229T100000
DTEND;TZID=America/Chicago:20241229T103000
DTSTAMP:20260424T180214
CREATED:20241226T234003Z
LAST-MODIFIED:20241226T234003Z
UID:3430-1735466400-1735468200@firstcenturykc.com
SUMMARY:Scattered Sunday 2024
DESCRIPTION:The final Sunday of each year we are ONLINE-ONLY for “Scattered Sunday”! This allows people time to travel\, rest\, reset\, and get ready for the New Year. We would love for you to engage with our special end-of-year video devotional (which goes LIVE at 10am CST) at any of these links: \n  \nYouTube: https://www.youtube.com/@firstcenturychurchkc \nFacebook: https://www.facebook.com/firstcenturykc \nWebsite: https://firstcenturykc.com/video-home/ \n  \nWe can’t wait to see you in-person for our first gathering of the year on Sunday\, January 5\, 2025 at 10AM!
URL:https://firstcenturykc.com/event/scattered-sunday-2024/
LOCATION:MO
CATEGORIES:Gatherings
ATTACH;FMTTYPE=image/jpeg:https://firstcenturykc.com/wp-content/uploads/2024/12/Scattered-Sunday-2024_25-SQUARE-FINAL.jpg
END:VEVENT
END:VCALENDAR