BEGIN:VCALENDAR
VERSION:2.0
PRODID:-//First Century Church - ECPv6.15.20//NONSGML v1.0//EN
CALSCALE:GREGORIAN
METHOD:PUBLISH
X-ORIGINAL-URL:https://firstcenturykc.com
X-WR-CALDESC:Events for First Century Church
REFRESH-INTERVAL;VALUE=DURATION:PT1H
X-Robots-Tag:noindex
X-PUBLISHED-TTL:PT1H
BEGIN:VTIMEZONE
TZID:America/Chicago
BEGIN:DAYLIGHT
TZOFFSETFROM:-0600
TZOFFSETTO:-0500
TZNAME:CDT
DTSTART:20240310T080000
END:DAYLIGHT
BEGIN:STANDARD
TZOFFSETFROM:-0500
TZOFFSETTO:-0600
TZNAME:CST
DTSTART:20241103T070000
END:STANDARD
BEGIN:DAYLIGHT
TZOFFSETFROM:-0600
TZOFFSETTO:-0500
TZNAME:CDT
DTSTART:20250309T080000
END:DAYLIGHT
BEGIN:STANDARD
TZOFFSETFROM:-0500
TZOFFSETTO:-0600
TZNAME:CST
DTSTART:20251102T070000
END:STANDARD
BEGIN:DAYLIGHT
TZOFFSETFROM:-0600
TZOFFSETTO:-0500
TZNAME:CDT
DTSTART:20260308T080000
END:DAYLIGHT
BEGIN:STANDARD
TZOFFSETFROM:-0500
TZOFFSETTO:-0600
TZNAME:CST
DTSTART:20261101T070000
END:STANDARD
END:VTIMEZONE
BEGIN:VEVENT
DTSTART;TZID=America/Chicago:20250112T100000
DTEND;TZID=America/Chicago:20250112T111500
DTSTAMP:20260424T163200
CREATED:20250112T025047Z
LAST-MODIFIED:20250112T025047Z
UID:3446-1736676000-1736680500@firstcenturykc.com
SUMMARY:Who Is God - Wk1
DESCRIPTION:In this series we’ll tackle the most impossible question you can ask\, but the most important question you can ask: Who is God? We’ll look at character traits that God has revealed about Himself to us in an effort to know God more and love God more.
URL:https://firstcenturykc.com/event/who-is-god-wk1/
LOCATION:MO
CATEGORIES:Gatherings
ATTACH;FMTTYPE=image/jpeg:https://firstcenturykc.com/wp-content/uploads/2025/01/1-Who-Is-God-SQUARE-FINAL.jpg
END:VEVENT
BEGIN:VEVENT
DTSTART;TZID=America/Chicago:20250119T100000
DTEND;TZID=America/Chicago:20250119T111500
DTSTAMP:20260424T163200
CREATED:20250112T025141Z
LAST-MODIFIED:20250112T025141Z
UID:3449-1737280800-1737285300@firstcenturykc.com
SUMMARY:Who Is God? - Wk2
DESCRIPTION:In this series we’ll tackle the most impossible question you can ask\, but the most important question you can ask: Who is God? We’ll look at character traits that God has revealed about Himself to us in an effort to know God more and love God more.
URL:https://firstcenturykc.com/event/who-is-god-wk2/
LOCATION:MO
CATEGORIES:Gatherings
ATTACH;FMTTYPE=image/jpeg:https://firstcenturykc.com/wp-content/uploads/2025/01/1-Who-Is-God-SQUARE-FINAL.jpg
END:VEVENT
BEGIN:VEVENT
DTSTART;TZID=America/Chicago:20250126T100000
DTEND;TZID=America/Chicago:20250126T111500
DTSTAMP:20260424T163200
CREATED:20250112T025226Z
LAST-MODIFIED:20250112T025226Z
UID:3451-1737885600-1737890100@firstcenturykc.com
SUMMARY:Who Is God? - Wk3
DESCRIPTION:In this series we’ll tackle the most impossible question you can ask\, but the most important question you can ask: Who is God? We’ll look at character traits that God has revealed about Himself to us in an effort to know God more and love God more.
URL:https://firstcenturykc.com/event/who-is-god-wk3/
LOCATION:MO
CATEGORIES:Gatherings
ATTACH;FMTTYPE=image/jpeg:https://firstcenturykc.com/wp-content/uploads/2025/01/1-Who-Is-God-SQUARE-FINAL.jpg
END:VEVENT
END:VCALENDAR