BEGIN:VCALENDAR
VERSION:2.0
PRODID:-//First Century Church - ECPv6.15.20//NONSGML v1.0//EN
CALSCALE:GREGORIAN
METHOD:PUBLISH
X-ORIGINAL-URL:https://firstcenturykc.com
X-WR-CALDESC:Events for First Century Church
REFRESH-INTERVAL;VALUE=DURATION:PT1H
X-Robots-Tag:noindex
X-PUBLISHED-TTL:PT1H
BEGIN:VTIMEZONE
TZID:America/Chicago
BEGIN:DAYLIGHT
TZOFFSETFROM:-0600
TZOFFSETTO:-0500
TZNAME:CDT
DTSTART:20240310T080000
END:DAYLIGHT
BEGIN:STANDARD
TZOFFSETFROM:-0500
TZOFFSETTO:-0600
TZNAME:CST
DTSTART:20241103T070000
END:STANDARD
BEGIN:DAYLIGHT
TZOFFSETFROM:-0600
TZOFFSETTO:-0500
TZNAME:CDT
DTSTART:20250309T080000
END:DAYLIGHT
BEGIN:STANDARD
TZOFFSETFROM:-0500
TZOFFSETTO:-0600
TZNAME:CST
DTSTART:20251102T070000
END:STANDARD
BEGIN:DAYLIGHT
TZOFFSETFROM:-0600
TZOFFSETTO:-0500
TZNAME:CDT
DTSTART:20260308T080000
END:DAYLIGHT
BEGIN:STANDARD
TZOFFSETFROM:-0500
TZOFFSETTO:-0600
TZNAME:CST
DTSTART:20261101T070000
END:STANDARD
END:VTIMEZONE
BEGIN:VEVENT
DTSTART;TZID=America/Chicago:20250209T100000
DTEND;TZID=America/Chicago:20250209T111500
DTSTAMP:20260424T151157
CREATED:20250209T213434Z
LAST-MODIFIED:20250209T213434Z
UID:3466-1739095200-1739099700@firstcenturykc.com
SUMMARY:Who Is God - Wk5
DESCRIPTION:In this series we’ll tackle the most impossible question you can ask\, but the most important question you can ask: Who is God? We’ll look at character traits that God has revealed about Himself to us in an effort to know God more and love God more.
URL:https://firstcenturykc.com/event/who-is-god-wk5/
LOCATION:MO
CATEGORIES:Gatherings
ATTACH;FMTTYPE=image/jpeg:https://firstcenturykc.com/wp-content/uploads/2025/01/1-Who-Is-God-SQUARE-FINAL.jpg
END:VEVENT
BEGIN:VEVENT
DTSTART;TZID=America/Chicago:20250216T100000
DTEND;TZID=America/Chicago:20250216T111500
DTSTAMP:20260424T151157
CREATED:20250209T213543Z
LAST-MODIFIED:20250209T213543Z
UID:3468-1739700000-1739704500@firstcenturykc.com
SUMMARY:Who Is God? - Wk6
DESCRIPTION:In this series we’ll tackle the most impossible question you can ask\, but the most important question you can ask: Who is God? We’ll look at character traits that God has revealed about Himself to us in an effort to know God more and love God more.
URL:https://firstcenturykc.com/event/who-is-god-wk6/
LOCATION:MO
CATEGORIES:Gatherings
ATTACH;FMTTYPE=image/jpeg:https://firstcenturykc.com/wp-content/uploads/2025/01/1-Who-Is-God-SQUARE-FINAL.jpg
END:VEVENT
BEGIN:VEVENT
DTSTART;TZID=America/Chicago:20250223T100000
DTEND;TZID=America/Chicago:20250223T111500
DTSTAMP:20260424T151157
CREATED:20250209T213703Z
LAST-MODIFIED:20250209T213703Z
UID:3470-1740304800-1740309300@firstcenturykc.com
SUMMARY:Who Is God? - Wk7
DESCRIPTION:In this series we’ll tackle the most impossible question you can ask\, but the most important question you can ask: Who is God? We’ll look at character traits that God has revealed about Himself to us in an effort to know God more and love God more.
URL:https://firstcenturykc.com/event/who-is-god-wk7/
LOCATION:MO
CATEGORIES:Gatherings
ATTACH;FMTTYPE=image/jpeg:https://firstcenturykc.com/wp-content/uploads/2025/01/1-Who-Is-God-SQUARE-FINAL.jpg
END:VEVENT
END:VCALENDAR