BEGIN:VCALENDAR
VERSION:2.0
PRODID:-//First Century Church - ECPv6.15.20//NONSGML v1.0//EN
CALSCALE:GREGORIAN
METHOD:PUBLISH
X-WR-CALNAME:First Century Church
X-ORIGINAL-URL:https://firstcenturykc.com
X-WR-CALDESC:Events for First Century Church
REFRESH-INTERVAL;VALUE=DURATION:PT1H
X-Robots-Tag:noindex
X-PUBLISHED-TTL:PT1H
BEGIN:VTIMEZONE
TZID:America/Chicago
BEGIN:DAYLIGHT
TZOFFSETFROM:-0600
TZOFFSETTO:-0500
TZNAME:CDT
DTSTART:20240310T080000
END:DAYLIGHT
BEGIN:STANDARD
TZOFFSETFROM:-0500
TZOFFSETTO:-0600
TZNAME:CST
DTSTART:20241103T070000
END:STANDARD
BEGIN:DAYLIGHT
TZOFFSETFROM:-0600
TZOFFSETTO:-0500
TZNAME:CDT
DTSTART:20250309T080000
END:DAYLIGHT
BEGIN:STANDARD
TZOFFSETFROM:-0500
TZOFFSETTO:-0600
TZNAME:CST
DTSTART:20251102T070000
END:STANDARD
BEGIN:DAYLIGHT
TZOFFSETFROM:-0600
TZOFFSETTO:-0500
TZNAME:CDT
DTSTART:20260308T080000
END:DAYLIGHT
BEGIN:STANDARD
TZOFFSETFROM:-0500
TZOFFSETTO:-0600
TZNAME:CST
DTSTART:20261101T070000
END:STANDARD
END:VTIMEZONE
BEGIN:VEVENT
DTSTART;TZID=America/Chicago:20250302T100000
DTEND;TZID=America/Chicago:20250302T111500
DTSTAMP:20260424T134335
CREATED:20250209T213928Z
LAST-MODIFIED:20250209T214726Z
UID:3472-1740909600-1740914100@firstcenturykc.com
SUMMARY:1C10 - Ten Year Anniversary
DESCRIPTION:We are so excited to celebrate 10 years of God’s goodness & faithfulness to First Century Church! \nWe are in awe of what God has allowed us to do in our first decade! We hope you can celebrate with us!
URL:https://firstcenturykc.com/event/1c10-ten-year-anniversary/
LOCATION:MO
CATEGORIES:Gatherings
ATTACH;FMTTYPE=image/jpeg:https://firstcenturykc.com/wp-content/uploads/2025/02/1C10-image-SQUARE-FINAL.jpg
END:VEVENT
BEGIN:VEVENT
DTSTART;TZID=America/Chicago:20250309T100000
DTEND;TZID=America/Chicago:20250309T111500
DTSTAMP:20260424T134335
CREATED:20250218T214733Z
LAST-MODIFIED:20250218T214733Z
UID:3476-1741514400-1741518900@firstcenturykc.com
SUMMARY:Kingdom - Wk1
DESCRIPTION:In this series\, which covers the season of Lent leading up to Easter\, we will examine several ideas around God’s Kingdom: What is it? Where is it? When is it? Why does it matter? Join us for this series\, “Kingdom”!
URL:https://firstcenturykc.com/event/kingdom-wk1/
LOCATION:MO
CATEGORIES:Gatherings
ATTACH;FMTTYPE=image/jpeg:https://firstcenturykc.com/wp-content/uploads/2025/02/Kingdom-with-dates-for-web-events-SQUARE-FINAL.jpg
END:VEVENT
BEGIN:VEVENT
DTSTART;TZID=America/Chicago:20250316T100000
DTEND;TZID=America/Chicago:20250316T111500
DTSTAMP:20260424T134335
CREATED:20250218T214823Z
LAST-MODIFIED:20250218T214823Z
UID:3479-1742119200-1742123700@firstcenturykc.com
SUMMARY:Kingdom - Wk2
DESCRIPTION:In this series\, which covers the season of Lent leading up to Easter\, we will examine several ideas around God’s Kingdom: What is it? Where is it? When is it? Why does it matter? Join us for this series\, “Kingdom”!
URL:https://firstcenturykc.com/event/kingdom-wk2/
LOCATION:MO
CATEGORIES:Gatherings
ATTACH;FMTTYPE=image/jpeg:https://firstcenturykc.com/wp-content/uploads/2025/02/Kingdom-with-dates-for-web-events-SQUARE-FINAL.jpg
END:VEVENT
BEGIN:VEVENT
DTSTART;TZID=America/Chicago:20250323T100000
DTEND;TZID=America/Chicago:20250323T111500
DTSTAMP:20260424T134335
CREATED:20250218T214922Z
LAST-MODIFIED:20250320T000417Z
UID:3481-1742724000-1742728500@firstcenturykc.com
SUMMARY:What We Learn From Winter
DESCRIPTION:It’s the first weekend of Spring which means Winter is behind us. As we are exiting the winter season outside\, some of us are in the midst of a personal winter season. And if we’re not in one now\, we’ve been in them and may have more to come in life. Join us this Sunday for a special message message called\, “What We Learn From Winter”. This timely message will be a practical\, encouraging one that you won’t want to to miss!
URL:https://firstcenturykc.com/event/kingdom-wk3/
LOCATION:MO
CATEGORIES:Gatherings
ATTACH;FMTTYPE=image/jpeg:https://firstcenturykc.com/wp-content/uploads/2025/02/What-We-Learn-In-Winter-PLAIN-SQUARE-FINAL.jpg
END:VEVENT
BEGIN:VEVENT
DTSTART;TZID=America/Chicago:20250330T100000
DTEND;TZID=America/Chicago:20250330T111500
DTSTAMP:20260424T134335
CREATED:20250218T215008Z
LAST-MODIFIED:20250319T235005Z
UID:3483-1743328800-1743333300@firstcenturykc.com
SUMMARY:Kingdom - Wk3
DESCRIPTION:In this series\, which covers the season of Lent leading up to Easter\, we will examine several ideas around God’s Kingdom: What is it? Where is it? When is it? Why does it matter? Join us for this series\, “Kingdom”!
URL:https://firstcenturykc.com/event/kingdom-wk4/
LOCATION:MO
CATEGORIES:Gatherings
ATTACH;FMTTYPE=image/jpeg:https://firstcenturykc.com/wp-content/uploads/2025/02/Kingdom-with-dates-for-web-events-SQUARE-FINAL.jpg
END:VEVENT
END:VCALENDAR