BEGIN:VCALENDAR
VERSION:2.0
PRODID:-//First Century Church - ECPv6.15.20//NONSGML v1.0//EN
CALSCALE:GREGORIAN
METHOD:PUBLISH
X-WR-CALNAME:First Century Church
X-ORIGINAL-URL:https://firstcenturykc.com
X-WR-CALDESC:Events for First Century Church
REFRESH-INTERVAL;VALUE=DURATION:PT1H
X-Robots-Tag:noindex
X-PUBLISHED-TTL:PT1H
BEGIN:VTIMEZONE
TZID:America/Chicago
BEGIN:DAYLIGHT
TZOFFSETFROM:-0600
TZOFFSETTO:-0500
TZNAME:CDT
DTSTART:20240310T080000
END:DAYLIGHT
BEGIN:STANDARD
TZOFFSETFROM:-0500
TZOFFSETTO:-0600
TZNAME:CST
DTSTART:20241103T070000
END:STANDARD
BEGIN:DAYLIGHT
TZOFFSETFROM:-0600
TZOFFSETTO:-0500
TZNAME:CDT
DTSTART:20250309T080000
END:DAYLIGHT
BEGIN:STANDARD
TZOFFSETFROM:-0500
TZOFFSETTO:-0600
TZNAME:CST
DTSTART:20251102T070000
END:STANDARD
BEGIN:DAYLIGHT
TZOFFSETFROM:-0600
TZOFFSETTO:-0500
TZNAME:CDT
DTSTART:20260308T080000
END:DAYLIGHT
BEGIN:STANDARD
TZOFFSETFROM:-0500
TZOFFSETTO:-0600
TZNAME:CST
DTSTART:20261101T070000
END:STANDARD
END:VTIMEZONE
BEGIN:VEVENT
DTSTART;TZID=America/Chicago:20250406T100000
DTEND;TZID=America/Chicago:20250406T111500
DTSTAMP:20260424T122724
CREATED:20250218T215122Z
LAST-MODIFIED:20250319T235021Z
UID:3485-1743933600-1743938100@firstcenturykc.com
SUMMARY:Kingdom - Wk4
DESCRIPTION:In this series\, which covers the season of Lent leading up to Easter\, we will examine several ideas around God’s Kingdom: What is it? Where is it? When is it? Why does it matter? Join us for this series\, “Kingdom”!
URL:https://firstcenturykc.com/event/kingdom-wk4-2/
LOCATION:MO
CATEGORIES:Gatherings
ATTACH;FMTTYPE=image/jpeg:https://firstcenturykc.com/wp-content/uploads/2025/02/Kingdom-with-dates-for-web-events-SQUARE-FINAL.jpg
END:VEVENT
BEGIN:VEVENT
DTSTART;TZID=America/Chicago:20250413T100000
DTEND;TZID=America/Chicago:20250413T111500
DTSTAMP:20260424T122724
CREATED:20250218T215214Z
LAST-MODIFIED:20250319T235031Z
UID:3487-1744538400-1744542900@firstcenturykc.com
SUMMARY:Kingdom - Wk5
DESCRIPTION:In this series\, which covers the season of Lent leading up to Easter\, we will examine several ideas around God’s Kingdom: What is it? Where is it? When is it? Why does it matter? Join us for this series\, “Kingdom”!
URL:https://firstcenturykc.com/event/kingdom-wk5/
LOCATION:MO
CATEGORIES:Gatherings
ATTACH;FMTTYPE=image/jpeg:https://firstcenturykc.com/wp-content/uploads/2025/02/Kingdom-with-dates-for-web-events-SQUARE-FINAL.jpg
END:VEVENT
BEGIN:VEVENT
DTSTART;TZID=America/Chicago:20250420T100000
DTEND;TZID=America/Chicago:20250420T111500
DTSTAMP:20260424T122724
CREATED:20250218T220843Z
LAST-MODIFIED:20250218T220843Z
UID:3491-1745143200-1745147700@firstcenturykc.com
SUMMARY:Easter at First Century 2025
DESCRIPTION:We hope you\, your family\, and your friends will celebrate Easter at First Century Church! It will be a great day with something for everyone!
URL:https://firstcenturykc.com/event/easter-at-first-century-2025/
LOCATION:MO
CATEGORIES:Gatherings
ATTACH;FMTTYPE=image/jpeg:https://firstcenturykc.com/wp-content/uploads/2025/02/Easter-2025-handout-SQUARE-FINAL.jpg
END:VEVENT
BEGIN:VEVENT
DTSTART;TZID=America/Chicago:20250427T100000
DTEND;TZID=America/Chicago:20250427T111500
DTSTAMP:20260424T122724
CREATED:20250420T030912Z
LAST-MODIFIED:20250420T030912Z
UID:3523-1745748000-1745752500@firstcenturykc.com
SUMMARY:The Beatitudes - Wk1
DESCRIPTION:In this series we will look at how we can practically live a truly different\, truly blessed life by living the way of Jesus
URL:https://firstcenturykc.com/event/the-beatitudes-wk1/
LOCATION:MO
CATEGORIES:Gatherings
ATTACH;FMTTYPE=image/jpeg:https://firstcenturykc.com/wp-content/uploads/2025/04/Beatitudes-2025-title-SQUARE-FINAL.jpg
END:VEVENT
END:VCALENDAR