BEGIN:VCALENDAR
VERSION:2.0
PRODID:-//First Century Church - ECPv6.15.20//NONSGML v1.0//EN
CALSCALE:GREGORIAN
METHOD:PUBLISH
X-WR-CALNAME:First Century Church
X-ORIGINAL-URL:https://firstcenturykc.com
X-WR-CALDESC:Events for First Century Church
REFRESH-INTERVAL;VALUE=DURATION:PT1H
X-Robots-Tag:noindex
X-PUBLISHED-TTL:PT1H
BEGIN:VTIMEZONE
TZID:America/Chicago
BEGIN:DAYLIGHT
TZOFFSETFROM:-0600
TZOFFSETTO:-0500
TZNAME:CDT
DTSTART:20240310T080000
END:DAYLIGHT
BEGIN:STANDARD
TZOFFSETFROM:-0500
TZOFFSETTO:-0600
TZNAME:CST
DTSTART:20241103T070000
END:STANDARD
BEGIN:DAYLIGHT
TZOFFSETFROM:-0600
TZOFFSETTO:-0500
TZNAME:CDT
DTSTART:20250309T080000
END:DAYLIGHT
BEGIN:STANDARD
TZOFFSETFROM:-0500
TZOFFSETTO:-0600
TZNAME:CST
DTSTART:20251102T070000
END:STANDARD
BEGIN:DAYLIGHT
TZOFFSETFROM:-0600
TZOFFSETTO:-0500
TZNAME:CDT
DTSTART:20260308T080000
END:DAYLIGHT
BEGIN:STANDARD
TZOFFSETFROM:-0500
TZOFFSETTO:-0600
TZNAME:CST
DTSTART:20261101T070000
END:STANDARD
END:VTIMEZONE
BEGIN:VEVENT
DTSTART;TZID=America/Chicago:20250504T100000
DTEND;TZID=America/Chicago:20250504T111500
DTSTAMP:20260424T110354
CREATED:20250420T041513Z
LAST-MODIFIED:20250420T041513Z
UID:3526-1746352800-1746357300@firstcenturykc.com
SUMMARY:Beatitudes - Wk2
DESCRIPTION:In this series we will look at how we can practically live a truly different\, truly blessed life by living the way of Jesus
URL:https://firstcenturykc.com/event/beatitudes-wk2/
LOCATION:MO
CATEGORIES:Gatherings
ATTACH;FMTTYPE=image/jpeg:https://firstcenturykc.com/wp-content/uploads/2025/04/Beatitudes-2025-title-SQUARE-FINAL.jpg
END:VEVENT
BEGIN:VEVENT
DTSTART;TZID=America/Chicago:20250511T100000
DTEND;TZID=America/Chicago:20250511T111500
DTSTAMP:20260424T110354
CREATED:20250420T041704Z
LAST-MODIFIED:20250420T041704Z
UID:3528-1746957600-1746962100@firstcenturykc.com
SUMMARY:Mother's Day 2025
DESCRIPTION:Join us as we celebrate moms in our gathering and continue our series on the Beatitudes
URL:https://firstcenturykc.com/event/mothers-day-2025/
LOCATION:MO
CATEGORIES:Gatherings
ATTACH;FMTTYPE=image/jpeg:https://firstcenturykc.com/wp-content/uploads/2025/04/Mothers-Day-2025-SQUARE-FINAL.jpg
END:VEVENT
BEGIN:VEVENT
DTSTART;TZID=America/Chicago:20250518T100000
DTEND;TZID=America/Chicago:20250518T111500
DTSTAMP:20260424T110354
CREATED:20250420T041815Z
LAST-MODIFIED:20250420T041815Z
UID:3532-1747562400-1747566900@firstcenturykc.com
SUMMARY:The Beatitudes - Wk4
DESCRIPTION:In this series we will look at how we can practically live a truly different\, truly blessed life by living the way of Jesus
URL:https://firstcenturykc.com/event/the-beatitudes-wk4/
LOCATION:MO
CATEGORIES:Gatherings
ATTACH;FMTTYPE=image/jpeg:https://firstcenturykc.com/wp-content/uploads/2025/04/Beatitudes-2025-title-SQUARE-FINAL.jpg
END:VEVENT
BEGIN:VEVENT
DTSTART;TZID=America/Chicago:20250525T100000
DTEND;TZID=America/Chicago:20250525T111500
DTSTAMP:20260424T110354
CREATED:20250420T041926Z
LAST-MODIFIED:20250420T041926Z
UID:3534-1748167200-1748171700@firstcenturykc.com
SUMMARY:The Beatitudes - Wk5
DESCRIPTION:In this series we will look at how we can practically live a truly different\, truly blessed life by living the way of Jesus
URL:https://firstcenturykc.com/event/the-beatitudes-wk5/
LOCATION:MO
CATEGORIES:Gatherings
ATTACH;FMTTYPE=image/jpeg:https://firstcenturykc.com/wp-content/uploads/2025/04/Beatitudes-2025-title-SQUARE-FINAL.jpg
END:VEVENT
END:VCALENDAR