BEGIN:VCALENDAR
VERSION:2.0
PRODID:-//First Century Church - ECPv6.15.20//NONSGML v1.0//EN
CALSCALE:GREGORIAN
METHOD:PUBLISH
X-WR-CALNAME:First Century Church
X-ORIGINAL-URL:https://firstcenturykc.com
X-WR-CALDESC:Events for First Century Church
REFRESH-INTERVAL;VALUE=DURATION:PT1H
X-Robots-Tag:noindex
X-PUBLISHED-TTL:PT1H
BEGIN:VTIMEZONE
TZID:America/Chicago
BEGIN:DAYLIGHT
TZOFFSETFROM:-0600
TZOFFSETTO:-0500
TZNAME:CDT
DTSTART:20240310T080000
END:DAYLIGHT
BEGIN:STANDARD
TZOFFSETFROM:-0500
TZOFFSETTO:-0600
TZNAME:CST
DTSTART:20241103T070000
END:STANDARD
BEGIN:DAYLIGHT
TZOFFSETFROM:-0600
TZOFFSETTO:-0500
TZNAME:CDT
DTSTART:20250309T080000
END:DAYLIGHT
BEGIN:STANDARD
TZOFFSETFROM:-0500
TZOFFSETTO:-0600
TZNAME:CST
DTSTART:20251102T070000
END:STANDARD
BEGIN:DAYLIGHT
TZOFFSETFROM:-0600
TZOFFSETTO:-0500
TZNAME:CDT
DTSTART:20260308T080000
END:DAYLIGHT
BEGIN:STANDARD
TZOFFSETFROM:-0500
TZOFFSETTO:-0600
TZNAME:CST
DTSTART:20261101T070000
END:STANDARD
END:VTIMEZONE
BEGIN:VEVENT
DTSTART;TZID=America/Chicago:20251102T100000
DTEND;TZID=America/Chicago:20251102T111500
DTSTAMP:20260424T020725
CREATED:20251001T234828Z
LAST-MODIFIED:20251001T234828Z
UID:3668-1762077600-1762082100@firstcenturykc.com
SUMMARY:Wisdom For Life - Wk9
DESCRIPTION:In this Fall series we will work through the New Testament book of James and discover practical ways to live out a life of faith
URL:https://firstcenturykc.com/event/wisdom-for-life-wk9/
LOCATION:First Century Church\, 7137 NW Lingley Drive\, Parkville\, MO\, 64152\, United States
CATEGORIES:Gatherings
ATTACH;FMTTYPE=image/jpeg:https://firstcenturykc.com/wp-content/uploads/2025/08/Wisdom-For-Life-James-2025-TITLE-SQUARE-FINAL.jpg
END:VEVENT
BEGIN:VEVENT
DTSTART;TZID=America/Chicago:20251109T100000
DTEND;TZID=America/Chicago:20251109T111500
DTSTAMP:20260424T020725
CREATED:20251001T234921Z
LAST-MODIFIED:20251001T234921Z
UID:3670-1762682400-1762686900@firstcenturykc.com
SUMMARY:Wisdom For Life - Wk10
DESCRIPTION:In this Fall series we will work through the New Testament book of James and discover practical ways to live out a life of faith
URL:https://firstcenturykc.com/event/wisdom-for-life-wk10/
LOCATION:MO
CATEGORIES:Gatherings
ATTACH;FMTTYPE=image/jpeg:https://firstcenturykc.com/wp-content/uploads/2025/08/Wisdom-For-Life-James-2025-TITLE-SQUARE-FINAL.jpg
END:VEVENT
BEGIN:VEVENT
DTSTART;TZID=America/Chicago:20251116T100000
DTEND;TZID=America/Chicago:20251116T111500
DTSTAMP:20260424T020725
CREATED:20251001T235022Z
LAST-MODIFIED:20251001T235022Z
UID:3672-1763287200-1763291700@firstcenturykc.com
SUMMARY:Wisdom For Life - Wk11
DESCRIPTION:In this Fall series we will work through the New Testament book of James and discover practical ways to live out a life of faith
URL:https://firstcenturykc.com/event/wisdom-for-life-wk11/
LOCATION:First Century Church\, 7137 NW Lingley Drive\, Parkville\, MO\, 64152\, United States
CATEGORIES:Gatherings
ATTACH;FMTTYPE=image/jpeg:https://firstcenturykc.com/wp-content/uploads/2025/08/Wisdom-For-Life-James-2025-TITLE-SQUARE-FINAL.jpg
END:VEVENT
BEGIN:VEVENT
DTSTART;TZID=America/Chicago:20251123T100000
DTEND;TZID=America/Chicago:20251123T111500
DTSTAMP:20260424T020725
CREATED:20251113T003327Z
LAST-MODIFIED:20251113T003327Z
UID:3695-1763892000-1763896500@firstcenturykc.com
SUMMARY:Wisdom For Life - Wk12
DESCRIPTION:In this Fall series we will work through the New Testament book of James and discover practical ways to live out a life of faith
URL:https://firstcenturykc.com/event/wisdom-for-life-wk12-2/
LOCATION:First Century Church\, 7137 NW Lingley Drive\, Parkville\, MO\, 64152\, United States
CATEGORIES:Gatherings
ATTACH;FMTTYPE=image/jpeg:https://firstcenturykc.com/wp-content/uploads/2025/08/Wisdom-For-Life-James-2025-TITLE-SQUARE-FINAL.jpg
END:VEVENT
BEGIN:VEVENT
DTSTART;TZID=America/Chicago:20251130T100000
DTEND;TZID=America/Chicago:20251130T111500
DTSTAMP:20260424T020725
CREATED:20251001T235124Z
LAST-MODIFIED:20251113T003202Z
UID:3674-1764496800-1764501300@firstcenturykc.com
SUMMARY:Wisdom For Life - Wk13
DESCRIPTION:In this Fall series we will work through the New Testament book of James and discover practical ways to live out a life of faith
URL:https://firstcenturykc.com/event/wisdom-for-life-wk12/
LOCATION:First Century Church\, 7137 NW Lingley Drive\, Parkville\, MO\, 64152\, United States
CATEGORIES:Gatherings
ATTACH;FMTTYPE=image/jpeg:https://firstcenturykc.com/wp-content/uploads/2025/08/Wisdom-For-Life-James-2025-TITLE-SQUARE-FINAL.jpg
END:VEVENT
END:VCALENDAR