BEGIN:VCALENDAR
VERSION:2.0
PRODID:-//First Century Church - ECPv6.15.20//NONSGML v1.0//EN
CALSCALE:GREGORIAN
METHOD:PUBLISH
X-ORIGINAL-URL:https://firstcenturykc.com
X-WR-CALDESC:Events for First Century Church
REFRESH-INTERVAL;VALUE=DURATION:PT1H
X-Robots-Tag:noindex
X-PUBLISHED-TTL:PT1H
BEGIN:VTIMEZONE
TZID:America/Chicago
BEGIN:DAYLIGHT
TZOFFSETFROM:-0600
TZOFFSETTO:-0500
TZNAME:CDT
DTSTART:20240310T080000
END:DAYLIGHT
BEGIN:STANDARD
TZOFFSETFROM:-0500
TZOFFSETTO:-0600
TZNAME:CST
DTSTART:20241103T070000
END:STANDARD
BEGIN:DAYLIGHT
TZOFFSETFROM:-0600
TZOFFSETTO:-0500
TZNAME:CDT
DTSTART:20250309T080000
END:DAYLIGHT
BEGIN:STANDARD
TZOFFSETFROM:-0500
TZOFFSETTO:-0600
TZNAME:CST
DTSTART:20251102T070000
END:STANDARD
BEGIN:DAYLIGHT
TZOFFSETFROM:-0600
TZOFFSETTO:-0500
TZNAME:CDT
DTSTART:20260308T080000
END:DAYLIGHT
BEGIN:STANDARD
TZOFFSETFROM:-0500
TZOFFSETTO:-0600
TZNAME:CST
DTSTART:20261101T070000
END:STANDARD
END:VTIMEZONE
BEGIN:VEVENT
DTSTART;TZID=America/Chicago:20251207T100000
DTEND;TZID=America/Chicago:20251207T111500
DTSTAMP:20260424T003833
CREATED:20251113T003524Z
LAST-MODIFIED:20251113T003524Z
UID:3697-1765101600-1765106100@firstcenturykc.com
SUMMARY:Wisdom For Life - Wk14
DESCRIPTION:*SERIES FINALE* In this Fall series we will work through the New Testament book of James and discover practical ways to live out a life of faith
URL:https://firstcenturykc.com/event/wisdom-for-life-wk14/
LOCATION:First Century Church\, 7137 NW Lingley Drive\, Parkville\, MO\, 64152\, United States
CATEGORIES:Gatherings
ATTACH;FMTTYPE=image/jpeg:https://firstcenturykc.com/wp-content/uploads/2025/08/Wisdom-For-Life-James-2025-TITLE-SQUARE-FINAL.jpg
END:VEVENT
BEGIN:VEVENT
DTSTART;TZID=America/Chicago:20251214T100000
DTEND;TZID=America/Chicago:20251214T111500
DTSTAMP:20260424T003833
CREATED:20251217T221012Z
LAST-MODIFIED:20251217T221012Z
UID:3712-1765706400-1765710900@firstcenturykc.com
SUMMARY:Predictive Texts - Wk1
DESCRIPTION:Join us for our Christmas series as we look at Old Testament scriptures\, figures\, and events which predict who Jesus would be and what Jesus would do.
URL:https://firstcenturykc.com/event/predictive-texts-wk1/
LOCATION:First Century Church\, 7137 NW Lingley Drive\, Parkville\, MO\, 64152\, United States
CATEGORIES:Gatherings
ATTACH;FMTTYPE=image/jpeg:https://firstcenturykc.com/wp-content/uploads/2025/12/Predictive-Texts-Christmas-series-TITLE-SQUARE-FINAL.jpg
END:VEVENT
BEGIN:VEVENT
DTSTART;TZID=America/Chicago:20251221T100000
DTEND;TZID=America/Chicago:20251221T111500
DTSTAMP:20260424T003833
CREATED:20251217T221345Z
LAST-MODIFIED:20251217T221345Z
UID:3715-1766311200-1766315700@firstcenturykc.com
SUMMARY:Predictive Texts - Wk2
DESCRIPTION:Join us for our Christmas series as we look at Old Testament scriptures\, figures\, and events which predict who Jesus would be and what Jesus would do.
URL:https://firstcenturykc.com/event/predictive-texts-wk2/
LOCATION:MO
CATEGORIES:Gatherings
ATTACH;FMTTYPE=image/jpeg:https://firstcenturykc.com/wp-content/uploads/2025/12/Slide1.jpg
END:VEVENT
BEGIN:VEVENT
DTSTART;TZID=America/Chicago:20251224T170000
DTEND;TZID=America/Chicago:20251224T180000
DTSTAMP:20260424T003833
CREATED:20251113T004307Z
LAST-MODIFIED:20251113T004307Z
UID:3699-1766595600-1766599200@firstcenturykc.com
SUMMARY:Christmas Eve @ First Century
DESCRIPTION:It’s the most wonderful time of the year! \nYour entire family is invited to join us for Christmas Eve @ First Century! This candlelit gathering will include many of your favorite carols\, songs from our 1CKids\, and some hot cocoa to warm you on this cold winter’s night. We’ll also hear the classic Christmas birth story and an encouraging message from Pastor Stephen. \nWe hope you make Christmas Eve @ First Century part of your Holiday tradition!
URL:https://firstcenturykc.com/event/christmas-eve-first-century-3/
LOCATION:First Century Church\, 7137 NW Lingley Drive\, Parkville\, MO\, 64152\, United States
CATEGORIES:Gatherings
ATTACH;FMTTYPE=image/jpeg:https://firstcenturykc.com/wp-content/uploads/2025/11/Christmas-Eve-2025-PLAIN-WIDE.jpg
END:VEVENT
BEGIN:VEVENT
DTSTART;TZID=America/Chicago:20251228T100000
DTEND;TZID=America/Chicago:20251228T103000
DTSTAMP:20260424T003833
CREATED:20251217T223130Z
LAST-MODIFIED:20251217T224929Z
UID:3717-1766916000-1766917800@firstcenturykc.com
SUMMARY:Scattered Sunday 2025
DESCRIPTION:The final Sunday of each year we are ONLINE-ONLY for “Scattered Sunday”! This allows people time to travel\, rest\, reset\, and get ready for the New Year. We would love for you to engage with our special end-of-year video devotional (which goes LIVE at 10am CST) at any of these links: \n  \nYouTube: https://www.youtube.com/@firstcenturychurchkc \nFacebook: https://www.facebook.com/firstcenturykc \nWebsite: https://firstcenturykc.com/video-home/ \n  \nWe can’t wait to see you in-person for our first gathering of the year on Sunday\, January 4\, 2026 at 10AM!
URL:https://firstcenturykc.com/event/3717/
LOCATION:MO
CATEGORIES:Gatherings
ATTACH;FMTTYPE=image/jpeg:https://firstcenturykc.com/wp-content/uploads/2025/12/Slide1-1.jpg
END:VEVENT
END:VCALENDAR