BEGIN:VCALENDAR
VERSION:2.0
PRODID:-//First Century Church - ECPv6.15.20//NONSGML v1.0//EN
CALSCALE:GREGORIAN
METHOD:PUBLISH
X-ORIGINAL-URL:https://firstcenturykc.com
X-WR-CALDESC:Events for First Century Church
REFRESH-INTERVAL;VALUE=DURATION:PT1H
X-Robots-Tag:noindex
X-PUBLISHED-TTL:PT1H
BEGIN:VTIMEZONE
TZID:America/Chicago
BEGIN:DAYLIGHT
TZOFFSETFROM:-0600
TZOFFSETTO:-0500
TZNAME:CDT
DTSTART:20250309T080000
END:DAYLIGHT
BEGIN:STANDARD
TZOFFSETFROM:-0500
TZOFFSETTO:-0600
TZNAME:CST
DTSTART:20251102T070000
END:STANDARD
BEGIN:DAYLIGHT
TZOFFSETFROM:-0600
TZOFFSETTO:-0500
TZNAME:CDT
DTSTART:20260308T080000
END:DAYLIGHT
BEGIN:STANDARD
TZOFFSETFROM:-0500
TZOFFSETTO:-0600
TZNAME:CST
DTSTART:20261101T070000
END:STANDARD
BEGIN:DAYLIGHT
TZOFFSETFROM:-0600
TZOFFSETTO:-0500
TZNAME:CDT
DTSTART:20270314T080000
END:DAYLIGHT
BEGIN:STANDARD
TZOFFSETFROM:-0500
TZOFFSETTO:-0600
TZNAME:CST
DTSTART:20271107T070000
END:STANDARD
END:VTIMEZONE
BEGIN:VEVENT
DTSTART;TZID=America/Chicago:20260215T100000
DTEND;TZID=America/Chicago:20260215T111500
DTSTAMP:20260424T053705
CREATED:20260213T220435Z
LAST-MODIFIED:20260213T220435Z
UID:3771-1771149600-1771154100@firstcenturykc.com
SUMMARY:February Fasting and Prayer - Wk1
DESCRIPTION:During the final two weeks of our February Fasting and Prayer emphasis we will examine these two important and connected spiritual disciplines.
URL:https://firstcenturykc.com/event/february-fasting-and-prayer-wk1/
LOCATION:First Century Church\, 7137 NW Lingley Drive\, Parkville\, MO\, 64152\, United States
CATEGORIES:Gatherings
ATTACH;FMTTYPE=image/jpeg:https://firstcenturykc.com/wp-content/uploads/2026/01/February-Fasting-and-Prayer-2026-ANNOUNCEMENT-WIDE.jpg
END:VEVENT
BEGIN:VEVENT
DTSTART;TZID=America/Chicago:20260222T100000
DTEND;TZID=America/Chicago:20260222T111500
DTSTAMP:20260424T053705
CREATED:20260213T220527Z
LAST-MODIFIED:20260213T220527Z
UID:3773-1771754400-1771758900@firstcenturykc.com
SUMMARY:February Fasting and Prayer - Wk2
DESCRIPTION:During the final two weeks of our February Fasting and Prayer emphasis we will examine these two important and connected spiritual disciplines.
URL:https://firstcenturykc.com/event/february-fasting-and-prayer-wk2/
LOCATION:First Century Church\, 7137 NW Lingley Drive\, Parkville\, MO\, 64152\, United States
CATEGORIES:Gatherings
ATTACH;FMTTYPE=image/jpeg:https://firstcenturykc.com/wp-content/uploads/2026/01/February-Fasting-and-Prayer-2026-ANNOUNCEMENT-WIDE.jpg
END:VEVENT
BEGIN:VEVENT
DTSTART;TZID=America/Chicago:20260301T100000
DTEND;TZID=America/Chicago:20260301T111500
DTSTAMP:20260424T053705
CREATED:20260213T220821Z
LAST-MODIFIED:20260213T220821Z
UID:3775-1772359200-1772363700@firstcenturykc.com
SUMMARY:Download - Wk1
DESCRIPTION:Join us for this Lent series leading up to Easter where we will look at the final pow-wow Jesus has with his closest followers on the night before everything changed forever.
URL:https://firstcenturykc.com/event/download-wk1/
LOCATION:First Century Church\, 7137 NW Lingley Drive\, Parkville\, MO\, 64152\, United States
CATEGORIES:Gatherings
ATTACH;FMTTYPE=image/jpeg:https://firstcenturykc.com/wp-content/uploads/2026/02/Download-main-title-w-dates-WIDE-1.jpg
END:VEVENT
BEGIN:VEVENT
DTSTART;TZID=America/Chicago:20260308T100000
DTEND;TZID=America/Chicago:20260308T111500
DTSTAMP:20260424T053705
CREATED:20260213T220918Z
LAST-MODIFIED:20260213T220918Z
UID:3778-1772964000-1772968500@firstcenturykc.com
SUMMARY:Download - Wk2
DESCRIPTION:Join us for this Lent series leading up to Easter where we will look at the final pow-wow Jesus has with his closest followers on the night before everything changed forever.
URL:https://firstcenturykc.com/event/download-wk2/
LOCATION:First Century Church\, 7137 NW Lingley Drive\, Parkville\, MO\, 64152\, United States
CATEGORIES:Gatherings
ATTACH;FMTTYPE=image/jpeg:https://firstcenturykc.com/wp-content/uploads/2026/02/Download-main-title-w-dates-WIDE-1.jpg
END:VEVENT
BEGIN:VEVENT
DTSTART;TZID=America/Chicago:20260315T100000
DTEND;TZID=America/Chicago:20260315T111500
DTSTAMP:20260424T053705
CREATED:20260213T221015Z
LAST-MODIFIED:20260213T221015Z
UID:3781-1773568800-1773573300@firstcenturykc.com
SUMMARY:Download - Wk3
DESCRIPTION:Join us for this Lent series leading up to Easter where we will look at the final pow-wow Jesus has with his closest followers on the night before everything changed forever.
URL:https://firstcenturykc.com/event/download-wk3/
LOCATION:First Century Church\, 7137 NW Lingley Drive\, Parkville\, MO\, 64152\, United States
CATEGORIES:Gatherings
ATTACH;FMTTYPE=image/jpeg:https://firstcenturykc.com/wp-content/uploads/2026/02/Download-main-title-w-dates-WIDE-1.jpg
END:VEVENT
BEGIN:VEVENT
DTSTART;TZID=America/Chicago:20260322T100000
DTEND;TZID=America/Chicago:20260322T111500
DTSTAMP:20260424T053705
CREATED:20260213T221107Z
LAST-MODIFIED:20260213T221107Z
UID:3783-1774173600-1774178100@firstcenturykc.com
SUMMARY:Download - Wk4
DESCRIPTION:Join us for this Lent series leading up to Easter where we will look at the final pow-wow Jesus has with his closest followers on the night before everything changed forever.
URL:https://firstcenturykc.com/event/download-wk4/
LOCATION:First Century Church\, 7137 NW Lingley Drive\, Parkville\, MO\, 64152\, United States
CATEGORIES:Gatherings
ATTACH;FMTTYPE=image/jpeg:https://firstcenturykc.com/wp-content/uploads/2026/02/Download-main-title-w-dates-WIDE-1.jpg
END:VEVENT
BEGIN:VEVENT
DTSTART;TZID=America/Chicago:20260329T100000
DTEND;TZID=America/Chicago:20260329T111500
DTSTAMP:20260424T053705
CREATED:20260213T221153Z
LAST-MODIFIED:20260213T221153Z
UID:3785-1774778400-1774782900@firstcenturykc.com
SUMMARY:Download - Wk5
DESCRIPTION:Join us for this Lent series leading up to Easter where we will look at the final pow-wow Jesus has with his closest followers on the night before everything changed forever.
URL:https://firstcenturykc.com/event/download-wk5/
LOCATION:First Century Church\, 7137 NW Lingley Drive\, Parkville\, MO\, 64152\, United States
CATEGORIES:Gatherings
ATTACH;FMTTYPE=image/jpeg:https://firstcenturykc.com/wp-content/uploads/2026/02/Download-main-title-w-dates-WIDE-1.jpg
END:VEVENT
BEGIN:VEVENT
DTSTART;TZID=America/Chicago:20260405T100000
DTEND;TZID=America/Chicago:20260405T111500
DTSTAMP:20260424T053705
CREATED:20260213T221659Z
LAST-MODIFIED:20260213T221659Z
UID:3787-1775383200-1775387700@firstcenturykc.com
SUMMARY:Easter at First Century
DESCRIPTION:We would love for you and your family to join us this year for Easter at First Century! \nThis will be a day full of celebration for all ages\, and you will not want to miss it!
URL:https://firstcenturykc.com/event/easter-at-first-century-2/
LOCATION:First Century Church\, 7137 NW Lingley Drive\, Parkville\, MO\, 64152\, United States
CATEGORIES:Gatherings
ATTACH;FMTTYPE=image/jpeg:https://firstcenturykc.com/wp-content/uploads/2026/02/Easter-2026-FB-banner-orig.jpg
END:VEVENT
BEGIN:VEVENT
DTSTART;TZID=America/Chicago:20260412T100000
DTEND;TZID=America/Chicago:20260412T111500
DTSTAMP:20260424T053705
CREATED:20260401T141358Z
LAST-MODIFIED:20260401T141358Z
UID:3807-1775988000-1775992500@firstcenturykc.com
SUMMARY:Pursuing Peace - Wk1
DESCRIPTION:In this 2-week miniseries we will see how we can pursue\, find\, and be at peace with God and with others
URL:https://firstcenturykc.com/event/pursuing-peace-wk1/
LOCATION:First Century Church\, 7137 NW Lingley Drive\, Parkville\, MO\, 64152\, United States
CATEGORIES:Gatherings
ATTACH;FMTTYPE=image/jpeg:https://firstcenturykc.com/wp-content/uploads/2026/04/Pursuing-Peace-titles-WIDE-W-DATE-WEB.jpg
END:VEVENT
BEGIN:VEVENT
DTSTART;TZID=America/Chicago:20260419T100000
DTEND;TZID=America/Chicago:20260419T111500
DTSTAMP:20260424T053705
CREATED:20260401T141931Z
LAST-MODIFIED:20260401T141931Z
UID:3811-1776592800-1776597300@firstcenturykc.com
SUMMARY:Guest Speaker - John Enderby
DESCRIPTION:Join us for a special gathering as we hear an encouraging message from 1C’s own John Enderby
URL:https://firstcenturykc.com/event/guest-speaker-john-enderby/
LOCATION:First Century Church\, 7137 NW Lingley Drive\, Parkville\, MO\, 64152\, United States
CATEGORIES:Gatherings
ATTACH;FMTTYPE=image/png:https://firstcenturykc.com/wp-content/uploads/2020/07/NEW-2020-DESIGN-FB-COVER-2.png
END:VEVENT
BEGIN:VEVENT
DTSTART;TZID=America/Chicago:20260426T100000
DTEND;TZID=America/Chicago:20260426T111500
DTSTAMP:20260424T053705
CREATED:20260401T141442Z
LAST-MODIFIED:20260401T141442Z
UID:3809-1777197600-1777202100@firstcenturykc.com
SUMMARY:Pursuing Peace - Wk2
DESCRIPTION:In this 2-week miniseries we will see how we can pursue\, find\, and be at peace with God and with others
URL:https://firstcenturykc.com/event/pursuing-peace-wk2/
LOCATION:First Century Church\, 7137 NW Lingley Drive\, Parkville\, MO\, 64152\, United States
CATEGORIES:Gatherings
ATTACH;FMTTYPE=image/jpeg:https://firstcenturykc.com/wp-content/uploads/2026/04/Pursuing-Peace-titles-WIDE-W-DATE-WEB.jpg
END:VEVENT
BEGIN:VEVENT
DTSTART;TZID=America/Chicago:20260503T100000
DTEND;TZID=America/Chicago:20260503T111500
DTSTAMP:20260424T053705
CREATED:20260401T143737Z
LAST-MODIFIED:20260401T143737Z
UID:3813-1777802400-1777806900@firstcenturykc.com
SUMMARY:Complex - Wk1
DESCRIPTION:Join us for this series working through the Old Testament book of Job. In one of the most unique parts of the entire Bible we will look at important and practical themes like human suffering\, doubt\, depression\, friendship\, hope\, and more. \nIf you want to purchase a Job Scripture Journal for note-taking during this series\, follow this link: https://shorturl.at/dDd4T
URL:https://firstcenturykc.com/event/complex-wk1/
LOCATION:First Century Church\, 7137 NW Lingley Drive\, Parkville\, MO\, 64152\, United States
CATEGORIES:Gatherings
ATTACH;FMTTYPE=image/jpeg:https://firstcenturykc.com/wp-content/uploads/2026/04/Complex-PLAIN-TITLE-WIDE.jpg
END:VEVENT
BEGIN:VEVENT
DTSTART;TZID=America/Chicago:20260510T100000
DTEND;TZID=America/Chicago:20260510T111500
DTSTAMP:20260424T053705
CREATED:20260401T183436Z
LAST-MODIFIED:20260401T183436Z
UID:3818-1778407200-1778411700@firstcenturykc.com
SUMMARY:Mother's Day
DESCRIPTION:You’re invited to celebrate Moms with us on Mother’s Day! \nWe’ll have a free family photo backdrop in the lobby\, and each woman will be given a gift before they leave.
URL:https://firstcenturykc.com/event/mothers-day-4/
LOCATION:MO
CATEGORIES:Gatherings
ATTACH;FMTTYPE=image/jpeg:https://firstcenturykc.com/wp-content/uploads/2026/04/Mothers-Day-2026-W-DATE-WIDE.jpg
END:VEVENT
BEGIN:VEVENT
DTSTART;TZID=America/Chicago:20260517T100000
DTEND;TZID=America/Chicago:20260517T111500
DTSTAMP:20260424T053705
CREATED:20260401T183553Z
LAST-MODIFIED:20260401T183553Z
UID:3821-1779012000-1779016500@firstcenturykc.com
SUMMARY:Complex - Wk3
DESCRIPTION:Join us for this series working through the Old Testament book of Job. In one of the most unique parts of the entire Bible we will look at important and practical themes like human suffering\, doubt\, depression\, friendship\, hope\, and more. \nIf you want to purchase a Job Scripture Journal for note-taking during this series\, follow this link: https://shorturl.at/dDd4T
URL:https://firstcenturykc.com/event/complex-wk3/
LOCATION:First Century Church\, 7137 NW Lingley Drive\, Parkville\, MO\, 64152\, United States
CATEGORIES:Gatherings
ATTACH;FMTTYPE=image/jpeg:https://firstcenturykc.com/wp-content/uploads/2026/04/Complex-PLAIN-TITLE-WIDE.jpg
END:VEVENT
BEGIN:VEVENT
DTSTART;TZID=America/Chicago:20260524T100000
DTEND;TZID=America/Chicago:20260524T111500
DTSTAMP:20260424T053705
CREATED:20260401T183647Z
LAST-MODIFIED:20260401T183647Z
UID:3823-1779616800-1779621300@firstcenturykc.com
SUMMARY:Complex - Wk4
DESCRIPTION:Join us for this series working through the Old Testament book of Job. In one of the most unique parts of the entire Bible we will look at important and practical themes like human suffering\, doubt\, depression\, friendship\, hope\, and more. \nIf you want to purchase a Job Scripture Journal for note-taking during this series\, follow this link: https://shorturl.at/dDd4T
URL:https://firstcenturykc.com/event/complex-wk4/
LOCATION:First Century Church\, 7137 NW Lingley Drive\, Parkville\, MO\, 64152\, United States
CATEGORIES:Gatherings
ATTACH;FMTTYPE=image/jpeg:https://firstcenturykc.com/wp-content/uploads/2026/04/Complex-PLAIN-TITLE-WIDE.jpg
END:VEVENT
BEGIN:VEVENT
DTSTART;TZID=America/Chicago:20260531T100000
DTEND;TZID=America/Chicago:20260531T111500
DTSTAMP:20260424T053705
CREATED:20260401T183734Z
LAST-MODIFIED:20260401T183734Z
UID:3825-1780221600-1780226100@firstcenturykc.com
SUMMARY:Complex - Wk5
DESCRIPTION:Join us for this series working through the Old Testament book of Job. In one of the most unique parts of the entire Bible we will look at important and practical themes like human suffering\, doubt\, depression\, friendship\, hope\, and more. \nIf you want to purchase a Job Scripture Journal for note-taking during this series\, follow this link: https://shorturl.at/dDd4T
URL:https://firstcenturykc.com/event/complex-wk5/
LOCATION:First Century Church\, 7137 NW Lingley Drive\, Parkville\, MO\, 64152\, United States
CATEGORIES:Gatherings
ATTACH;FMTTYPE=image/jpeg:https://firstcenturykc.com/wp-content/uploads/2026/04/Complex-PLAIN-TITLE-WIDE.jpg
END:VEVENT
END:VCALENDAR