BEGIN:VCALENDAR
VERSION:2.0
PRODID:-//First Century Church - ECPv6.15.20//NONSGML v1.0//EN
CALSCALE:GREGORIAN
METHOD:PUBLISH
X-WR-CALNAME:First Century Church
X-ORIGINAL-URL:https://firstcenturykc.com
X-WR-CALDESC:Events for First Century Church
REFRESH-INTERVAL;VALUE=DURATION:PT1H
X-Robots-Tag:noindex
X-PUBLISHED-TTL:PT1H
BEGIN:VTIMEZONE
TZID:America/Chicago
BEGIN:DAYLIGHT
TZOFFSETFROM:-0600
TZOFFSETTO:-0500
TZNAME:CDT
DTSTART:20230312T080000
END:DAYLIGHT
BEGIN:STANDARD
TZOFFSETFROM:-0500
TZOFFSETTO:-0600
TZNAME:CST
DTSTART:20231105T070000
END:STANDARD
BEGIN:DAYLIGHT
TZOFFSETFROM:-0600
TZOFFSETTO:-0500
TZNAME:CDT
DTSTART:20240310T080000
END:DAYLIGHT
BEGIN:STANDARD
TZOFFSETFROM:-0500
TZOFFSETTO:-0600
TZNAME:CST
DTSTART:20241103T070000
END:STANDARD
BEGIN:DAYLIGHT
TZOFFSETFROM:-0600
TZOFFSETTO:-0500
TZNAME:CDT
DTSTART:20250309T080000
END:DAYLIGHT
BEGIN:STANDARD
TZOFFSETFROM:-0500
TZOFFSETTO:-0600
TZNAME:CST
DTSTART:20251102T070000
END:STANDARD
END:VTIMEZONE
BEGIN:VEVENT
DTSTART;TZID=America/Chicago:20240204T000100
DTEND;TZID=America/Chicago:20240211T235900
DTSTAMP:20260425T114118
CREATED:20240202T220328Z
LAST-MODIFIED:20240202T220328Z
UID:3150-1707004860-1707695940@firstcenturykc.com
SUMMARY:Small Group Signups
DESCRIPTION:Spring Small Groups are on the way! You can sign up for a group within the next couple of weeks\, and they will begin soon! We love how small groups connect us relationally as we grow spiritually!
URL:https://firstcenturykc.com/event/small-group-signups/
CATEGORIES:Small Groups
ATTACH;FMTTYPE=image/jpeg:https://firstcenturykc.com/wp-content/uploads/2024/02/Small-Group-sign-up-now-SQUARE-FINAL.jpg
END:VEVENT
END:VCALENDAR